{"text_format":"1","workbook":"xlsx","n_sheets":6,"sheets":["TEMİZLE","GENEL TOPLAM","ABD DOLARI","AVRO","İNGİLİZ STERLİNİ","KURLAR"],"not_rendered":{"charts":0,"images":0,"macros":1,"external_links":0,"defined_names":0,"comments":0,"pivot_tables":0},"unopened":[],"bounds":{"document_bytes":16777216,"sheet_cells":100000,"rows_first":2000,"rows_last":500,"rows_between":2000,"halvings":0,"cell_chars":16384,"cell_head_chars":4096},"cells_cut":0,"cells_raw":0,"read":"whole","date_system":"1900"}

{"sheet":"TEMİZLE","index":0,"n_rows":14,"n_cols":2,"rows_kept":14,"cut":false,"hidden":false,"merged":[]}
[]
[]
[]
[]
[]
[]
[]
[]
[]
[]
[]
[]
[]
[null," "]

{"sheet":"GENEL TOPLAM","index":1,"n_rows":23,"n_cols":5,"rows_kept":23,"cut":false,"hidden":false,"merged":[[22,1,22,3]]}
[]
[null,"ABD DOLARI KUR DEĞERLEME KAZANÇ / ZARARI",{"$f":"'ABD DOLARI'!K207","v":0}]
[null,"AVRO KUR DEĞERLEME KAZANÇ / ZARARI",{"$f":"AVRO!K207","v":0}]
[null,"İNGİLİZ STERLİNİ KUR DEĞERLEME KAZANÇ / ZARARI",{"$f":"'İNGİLİZ STERLİNİ'!K207","v":0}]
[null,"GENEL TOPLAM",{"$f":"SUM(C2:C4)","v":0}]
[null,"Dönüşüm Oranı ",{"$f":"C21/C15","v":{"$error":"#DIV/0!"}}]
[null,"DÖNÜŞÜM ORANINA GÖRE YARARLANILABİLECEK TOPLAM KAZANÇ VEYA ZARAR TUTARI",{"$f":"C5*C6","v":{"$error":"#DIV/0!"}}]
[]
[]
[]
[null,"DÖNEM SONU MİKTAR VE TUTARLAR","DÖNEM SONU MİKTAR","DÖNEM SONU KURU","TL DEĞERİ"]
[null,"DÖNEM SONU ABD DOLARI ",{"$f":"'ABD DOLARI'!F3","v":0},{"$f":"'ABD DOLARI'!G3","v":12.977499999999999},{"$f":"C12*D12","v":0}]
[null,"DÖNEM SONU AVRO ",{"$f":"AVRO!F3","v":0},{"$f":"AVRO!G3","v":14.6823},{"$f":"C13*D13","v":0}]
[null,"DÖNEM SONU İNGİLİZ STERLİNİ ",{"$f":"'İNGİLİZ STERLİNİ'!F3","v":0},{"$f":"'İNGİLİZ STERLİNİ'!G3","v":17.452999999999999},0]
[null,"Dönem Sonu Toplam Tutar (TL)",{"$f":"SUM(E12:E14)","v":0}]
[]
[null,"DÖNÜŞTÜRÜLEN YABANCI PARA TUTARI","DÖNÜŞTÜRÜLEN MİKTAR","DÖNEM SONU KURU","TL DEĞERİ"]
[null,"DÖNÜŞTÜRÜLEN ABD DOLARI ",{"$f":"'ABD DOLARI'!I3","v":0},{"$f":"'ABD DOLARI'!G3","v":12.977499999999999},{"$f":"C18*D18","v":0}]
[null,"DÖNÜŞTÜRÜLEN AVRO ",{"$f":"AVRO!I3","v":0},{"$f":"AVRO!G3","v":14.6823},{"$f":"C19*D19","v":0}]
[null,"DÖNÜŞTÜRÜLEN İNGİLİZ STERLİNİ ",{"$f":"'İNGİLİZ STERLİNİ'!I3","v":0},{"$f":"'İNGİLİZ STERLİNİ'!G3","v":17.452999999999999},0]
[null,"DÖNÜŞTÜRÜLEN YABANCI PARA TUTARI(TL)",{"$f":"SUM(E18:E20)","v":0}]
[]
[null,"DÖNÜŞÜM ORANI ",null,null,{"$f":"C21/C15","v":{"$error":"#DIV/0!"}}]

{"sheet":"ABD DOLARI","index":2,"n_rows":207,"n_cols":11,"rows_kept":207,"cut":false,"hidden":false,"merged":[[4,3,4,7],[4,8,4,10],[206,3,206,5]]}
[]
[null,null,null,null,null,null,"Değerlemede Dikkate Alınacak Kur",null,"Kur Korumalı Mevduat Hesabına Aktarılacak Tutar","İstisnadan Yararlanma Oranı","İstisnadan Yararlanabilecek Kazanç Tutarı"]
[null,null,null,null,"DÖVİZ TEVDİAT HESABINDA \n31/12/2021 TARİHİ İTİBARİYLE YER ALAN DÖNEM SONU ABD DOLARI MİKTARI",null,{"$f":"KURLAR!C366","v":12.977499999999999},null,null,{"$f":"I3/F3","v":{"$error":"#DIV/0!"}},{"$f":"K207*J3","v":{"$error":"#DIV/0!"}}]
[]
[null,null,null,"EN SON ALIM YAPILAN DÖVİZLERİN ALIM TARİH VE MİKTAR DURUMU",null,null,null,null,"DEĞERLEME İŞLEMLERİ"]
[null,"30/09/2021 Tarihinin Sayı Değeri","Alım Tarihinin Sayı Değeri","SIRA NO","Alım Tarihi","Yazılabilecek Max Alım Miktarı","Alım Miktarı","Kalan Bir Önceki Max  Alım Miktarı","Değerlemede Dikkate Alınacak Tarih","Değerlemede Dikkate Alınacak Kur","Hesaplanan Kur Farkı Kazancı"]
["2021-09-30",{"$f":"A7","v":44469},{"$f":"E7","v":0},1,null,{"$f":"F3","v":0},null,{"$f":"F3-G7","v":0},{"$f":"IF(C7>=B7,E7,(A7))","v":"2021-09-30"},{"$f":"LOOKUP(I7,KURLAR!B2:B366,KURLAR!C2:C366)","v":8.8432999999999993},{"$f":"G7*($G$3-J7)","v":0}]
["2021-09-30",{"$f":"A8","v":44469},0,2,null,{"$f":"F7-G7","v":0},null,{"$f":"H7-G8","v":0},{"$f":"IF(C8>=B8,E8,(A8))","v":"2021-09-30"},{"$f":"LOOKUP(I8,KURLAR!B3:B367,KURLAR!C3:C367)","v":8.8432999999999993},{"$f":"G8*($G$3-J8)","v":0}]
["2021-09-30",44469,0,3,null,{"$f":"F8-G8","v":0},null,{"$f":"H8-G9","v":0},"2021-09-30",{"$f":"LOOKUP(I9,KURLAR!B4:B368,KURLAR!C4:C368)","v":8.8432999999999993},0]
["2021-09-30",44469,0,4,null,0,null,0,"2021-09-30",{"$f":"LOOKUP(I10,KURLAR!B5:B369,KURLAR!C5:C369)","v":8.8432999999999993},0]
["2021-09-30",44469,0,5,null,0,null,0,"2021-09-30",{"$f":"LOOKUP(I11,KURLAR!B6:B370,KURLAR!C6:C370)","v":8.8432999999999993},0]
["2021-09-30",44469,0,6,null,0,null,0,"2021-09-30",{"$f":"LOOKUP(I12,KURLAR!B7:B371,KURLAR!C7:C371)","v":8.8432999999999993},0]
["2021-09-30",44469,0,7,null,0,null,0,"2021-09-30",{"$f":"LOOKUP(I13,KURLAR!B8:B372,KURLAR!C8:C372)","v":8.8432999999999993},0]
["2021-09-30",44469,0,8,null,0,null,0,"2021-09-30",{"$f":"LOOKUP(I14,KURLAR!B9:B373,KURLAR!C9:C373)","v":8.8432999999999993},0]
["2021-09-30",44469,0,9,null,0,null,0,"2021-09-30",{"$f":"LOOKUP(I15,KURLAR!B10:B374,KURLAR!C10:C374)","v":8.8432999999999993},0]
["2021-09-30",44469,0,10,null,0,null,0,"2021-09-30",{"$f":"LOOKUP(I16,KURLAR!B11:B375,KURLAR!C11:C375)","v":8.8432999999999993},0]
["2021-09-30",44469,0,11,null,0,null,0,"2021-09-30",{"$f":"LOOKUP(I17,KURLAR!B12:B376,KURLAR!C12:C376)","v":8.8432999999999993},0]
["2021-09-30",44469,0,12,null,0,null,0,"2021-09-30",{"$f":"LOOKUP(I18,KURLAR!B13:B377,KURLAR!C13:C377)","v":8.8432999999999993},0]
["2021-09-30",44469,0,13,null,0,null,0,"2021-09-30",{"$f":"LOOKUP(I19,KURLAR!B14:B378,KURLAR!C14:C378)","v":8.8432999999999993},0]
["2021-09-30",44469,0,14,null,0,null,0,"2021-09-30",{"$f":"LOOKUP(I20,KURLAR!B15:B379,KURLAR!C15:C379)","v":8.8432999999999993},0]
["2021-09-30",44469,0,15,null,0,null,0,"2021-09-30",{"$f":"LOOKUP(I21,KURLAR!B16:B380,KURLAR!C16:C380)","v":8.8432999999999993},0]
["2021-09-30",44469,0,16,null,0,null,0,"2021-09-30",{"$f":"LOOKUP(I22,KURLAR!B17:B381,KURLAR!C17:C381)","v":8.8432999999999993},0]
["2021-09-30",44469,0,17,null,0,null,0,"2021-09-30",{"$f":"LOOKUP(I23,KURLAR!B18:B382,KURLAR!C18:C382)","v":8.8432999999999993},0]
["2021-09-30",44469,0,18,null,0,null,0,"2021-09-30",{"$f":"LOOKUP(I24,KURLAR!B19:B383,KURLAR!C19:C383)","v":8.8432999999999993},0]
["2021-09-30",44469,0,19,null,0,null,0,"2021-09-30",{"$f":"LOOKUP(I25,KURLAR!B20:B384,KURLAR!C20:C384)","v":8.8432999999999993},0]
["2021-09-30",44469,0,20,null,0,null,0,"2021-09-30",{"$f":"LOOKUP(I26,KURLAR!B21:B385,KURLAR!C21:C385)","v":8.8432999999999993},0]
["2021-09-30",44469,0,21,null,0,null,0,"2021-09-30",{"$f":"LOOKUP(I27,KURLAR!B22:B386,KURLAR!C22:C386)","v":8.8432999999999993},0]
["2021-09-30",44469,0,22,null,0,null,0,"2021-09-30",{"$f":"LOOKUP(I28,KURLAR!B23:B387,KURLAR!C23:C387)","v":8.8432999999999993},0]
["2021-09-30",44469,0,23,null,0,null,0,"2021-09-30",{"$f":"LOOKUP(I29,KURLAR!B24:B388,KURLAR!C24:C388)","v":8.8432999999999993},0]
["2021-09-30",44469,0,24,null,0,null,0,"2021-09-30",{"$f":"LOOKUP(I30,KURLAR!B25:B389,KURLAR!C25:C389)","v":8.8432999999999993},0]
["2021-09-30",44469,0,25,null,0,null,0,"2021-09-30",{"$f":"LOOKUP(I31,KURLAR!B26:B390,KURLAR!C26:C390)","v":8.8432999999999993},0]
["2021-09-30",44469,0,26,null,0,null,0,"2021-09-30",{"$f":"LOOKUP(I32,KURLAR!B27:B391,KURLAR!C27:C391)","v":8.8432999999999993},0]
["2021-09-30",44469,0,27,null,0,null,0,"2021-09-30",{"$f":"LOOKUP(I33,KURLAR!B28:B392,KURLAR!C28:C392)","v":8.8432999999999993},0]
["2021-09-30",44469,0,28,null,0,null,0,"2021-09-30",{"$f":"LOOKUP(I34,KURLAR!B29:B393,KURLAR!C29:C393)","v":8.8432999999999993},0]
["2021-09-30",44469,0,29,null,0,null,0,"2021-09-30",{"$f":"LOOKUP(I35,KURLAR!B30:B394,KURLAR!C30:C394)","v":8.8432999999999993},0]
["2021-09-30",44469,0,30,null,0,null,0,"2021-09-30",{"$f":"LOOKUP(I36,KURLAR!B31:B395,KURLAR!C31:C395)","v":8.8432999999999993},0]
["2021-09-30",{"$f":"A37","v":44469},{"$f":"E37","v":0},31,null,0,null,0,"2021-09-30",{"$f":"LOOKUP(I37,KURLAR!B32:B396,KURLAR!C32:C396)","v":8.8432999999999993},0]
["2021-09-30",44469,0,32,null,0,null,0,"2021-09-30",{"$f":"LOOKUP(I38,KURLAR!B33:B397,KURLAR!C33:C397)","v":8.8432999999999993},0]
["2021-09-30",44469,0,33,null,0,null,0,"2021-09-30",{"$f":"LOOKUP(I39,KURLAR!B34:B398,KURLAR!C34:C398)","v":8.8432999999999993},0]
["2021-09-30",44469,0,34,null,0,null,0,"2021-09-30",{"$f":"LOOKUP(I40,KURLAR!B35:B399,KURLAR!C35:C399)","v":8.8432999999999993},0]
["2021-09-30",44469,0,35,null,0,null,0,"2021-09-30",{"$f":"LOOKUP(I41,KURLAR!B36:B400,KURLAR!C36:C400)","v":8.8432999999999993},0]
["2021-09-30",44469,0,36,null,0,null,0,"2021-09-30",{"$f":"LOOKUP(I42,KURLAR!B37:B401,KURLAR!C37:C401)","v":8.8432999999999993},0]
["2021-09-30",44469,0,37,null,0,null,0,"2021-09-30",{"$f":"LOOKUP(I43,KURLAR!B38:B402,KURLAR!C38:C402)","v":8.8432999999999993},0]
["2021-09-30",44469,0,38,null,0,null,0,"2021-09-30",{"$f":"LOOKUP(I44,KURLAR!B39:B403,KURLAR!C39:C403)","v":8.8432999999999993},0]
["2021-09-30",44469,0,39,null,0,null,0,"2021-09-30",{"$f":"LOOKUP(I45,KURLAR!B40:B404,KURLAR!C40:C404)","v":8.8432999999999993},0]
["2021-09-30",44469,0,40,null,0,null,0,"2021-09-30",{"$f":"LOOKUP(I46,KURLAR!B41:B405,KURLAR!C41:C405)","v":8.8432999999999993},0]
["2021-09-30",44469,0,41,null,0,null,0,"2021-09-30",{"$f":"LOOKUP(I47,KURLAR!B42:B406,KURLAR!C42:C406)","v":8.8432999999999993},0]
["2021-09-30",44469,0,42,null,0,null,0,"2021-09-30",{"$f":"LOOKUP(I48,KURLAR!B43:B407,KURLAR!C43:C407)","v":8.8432999999999993},0]
["2021-09-30",44469,0,43,null,0,null,0,"2021-09-30",{"$f":"LOOKUP(I49,KURLAR!B44:B408,KURLAR!C44:C408)","v":8.8432999999999993},0]
["2021-09-30",44469,0,44,null,0,null,0,"2021-09-30",{"$f":"LOOKUP(I50,KURLAR!B45:B409,KURLAR!C45:C409)","v":8.8432999999999993},0]
["2021-09-30",44469,0,45,null,0,null,0,"2021-09-30",{"$f":"LOOKUP(I51,KURLAR!B46:B410,KURLAR!C46:C410)","v":8.8432999999999993},0]
["2021-09-30",44469,0,46,null,0,null,0,"2021-09-30",{"$f":"LOOKUP(I52,KURLAR!B47:B411,KURLAR!C47:C411)","v":8.8432999999999993},0]
["2021-09-30",44469,0,47,null,0,null,0,"2021-09-30",{"$f":"LOOKUP(I53,KURLAR!B48:B412,KURLAR!C48:C412)","v":8.8432999999999993},0]
["2021-09-30",44469,0,48,null,0,null,0,"2021-09-30",{"$f":"LOOKUP(I54,KURLAR!B49:B413,KURLAR!C49:C413)","v":8.8432999999999993},0]
["2021-09-30",44469,0,49,null,0,null,0,"2021-09-30",{"$f":"LOOKUP(I55,KURLAR!B50:B414,KURLAR!C50:C414)","v":8.8432999999999993},0]
["2021-09-30",44469,0,50,null,0,null,0,"2021-09-30",{"$f":"LOOKUP(I56,KURLAR!B51:B415,KURLAR!C51:C415)","v":8.8432999999999993},0]
["2021-09-30",44469,0,51,null,0,null,0,"2021-09-30",{"$f":"LOOKUP(I57,KURLAR!B52:B416,KURLAR!C52:C416)","v":8.8432999999999993},0]
["2021-09-30",44469,0,52,null,0,null,0,"2021-09-30",{"$f":"LOOKUP(I58,KURLAR!B53:B417,KURLAR!C53:C417)","v":8.8432999999999993},0]
["2021-09-30",44469,0,53,null,0,null,0,"2021-09-30",{"$f":"LOOKUP(I59,KURLAR!B54:B418,KURLAR!C54:C418)","v":8.8432999999999993},0]
["2021-09-30",44469,0,54,null,0,null,0,"2021-09-30",{"$f":"LOOKUP(I60,KURLAR!B55:B419,KURLAR!C55:C419)","v":8.8432999999999993},0]
["2021-09-30",44469,0,55,null,0,null,0,"2021-09-30",{"$f":"LOOKUP(I61,KURLAR!B56:B420,KURLAR!C56:C420)","v":8.8432999999999993},0]
["2021-09-30",44469,0,56,null,0,null,0,"2021-09-30",{"$f":"LOOKUP(I62,KURLAR!B57:B421,KURLAR!C57:C421)","v":8.8432999999999993},0]
["2021-09-30",44469,0,57,null,0,null,0,"2021-09-30",{"$f":"LOOKUP(I63,KURLAR!B58:B422,KURLAR!C58:C422)","v":8.8432999999999993},0]
["2021-09-30",44469,0,58,null,0,null,0,"2021-09-30",{"$f":"LOOKUP(I64,KURLAR!B59:B423,KURLAR!C59:C423)","v":8.8432999999999993},0]
["2021-09-30",44469,0,59,null,0,null,0,"2021-09-30",{"$f":"LOOKUP(I65,KURLAR!B60:B424,KURLAR!C60:C424)","v":8.8432999999999993},0]
["2021-09-30",44469,0,60,null,0,null,0,"2021-09-30",{"$f":"LOOKUP(I66,KURLAR!B61:B425,KURLAR!C61:C425)","v":8.8432999999999993},0]
["2021-09-30",44469,0,61,null,0,null,0,"2021-09-30",{"$f":"LOOKUP(I67,KURLAR!B62:B426,KURLAR!C62:C426)","v":8.8432999999999993},0]
["2021-09-30",44469,0,62,null,0,null,0,"2021-09-30",{"$f":"LOOKUP(I68,KURLAR!B63:B427,KURLAR!C63:C427)","v":8.8432999999999993},0]
["2021-09-30",44469,0,63,null,0,null,0,"2021-09-30",{"$f":"LOOKUP(I69,KURLAR!B64:B428,KURLAR!C64:C428)","v":8.8432999999999993},0]
["2021-09-30",44469,0,64,null,0,null,0,"2021-09-30",{"$f":"LOOKUP(I70,KURLAR!B65:B429,KURLAR!C65:C429)","v":8.8432999999999993},0]
["2021-09-30",44469,0,65,null,0,null,0,"2021-09-30",{"$f":"LOOKUP(I71,KURLAR!B66:B430,KURLAR!C66:C430)","v":8.8432999999999993},0]
["2021-09-30",44469,0,66,null,0,null,0,{"$f":"IF(C72>=B72,E72,(A72))","v":"2021-09-30"},{"$f":"LOOKUP(I72,KURLAR!B67:B431,KURLAR!C67:C431)","v":8.8432999999999993},{"$f":"G72*($G$3-J72)","v":0}]
["2021-09-30",44469,0,67,null,{"$f":"F72-G72","v":0},null,{"$f":"H72-G73","v":0},"2021-09-30",{"$f":"LOOKUP(I73,KURLAR!B68:B432,KURLAR!C68:C432)","v":8.8432999999999993},0]
["2021-09-30",44469,0,68,null,0,null,0,"2021-09-30",{"$f":"LOOKUP(I74,KURLAR!B69:B433,KURLAR!C69:C433)","v":8.8432999999999993},0]
["2021-09-30",44469,0,69,null,0,null,0,"2021-09-30",{"$f":"LOOKUP(I75,KURLAR!B70:B434,KURLAR!C70:C434)","v":8.8432999999999993},0]
["2021-09-30",44469,0,70,null,0,null,0,"2021-09-30",{"$f":"LOOKUP(I76,KURLAR!B71:B435,KURLAR!C71:C435)","v":8.8432999999999993},0]
["2021-09-30",44469,0,71,null,0,null,0,"2021-09-30",{"$f":"LOOKUP(I77,KURLAR!B72:B436,KURLAR!C72:C436)","v":8.8432999999999993},0]
["2021-09-30",44469,0,72,null,0,null,0,"2021-09-30",{"$f":"LOOKUP(I78,KURLAR!B73:B437,KURLAR!C73:C437)","v":8.8432999999999993},0]
["2021-09-30",44469,0,73,null,0,null,0,"2021-09-30",{"$f":"LOOKUP(I79,KURLAR!B74:B438,KURLAR!C74:C438)","v":8.8432999999999993},0]
["2021-09-30",44469,0,74,null,0,null,0,"2021-09-30",{"$f":"LOOKUP(I80,KURLAR!B75:B439,KURLAR!C75:C439)","v":8.8432999999999993},0]
["2021-09-30",44469,0,75,null,0,null,0,"2021-09-30",{"$f":"LOOKUP(I81,KURLAR!B76:B440,KURLAR!C76:C440)","v":8.8432999999999993},0]
["2021-09-30",44469,0,76,null,0,null,0,"2021-09-30",{"$f":"LOOKUP(I82,KURLAR!B77:B441,KURLAR!C77:C441)","v":8.8432999999999993},0]
["2021-09-30",44469,0,77,null,0,null,0,"2021-09-30",{"$f":"LOOKUP(I83,KURLAR!B78:B442,KURLAR!C78:C442)","v":8.8432999999999993},0]
["2021-09-30",44469,0,78,null,0,null,0,"2021-09-30",{"$f":"LOOKUP(I84,KURLAR!B79:B443,KURLAR!C79:C443)","v":8.8432999999999993},0]
["2021-09-30",44469,0,79,null,0,null,0,"2021-09-30",{"$f":"LOOKUP(I85,KURLAR!B80:B444,KURLAR!C80:C444)","v":8.8432999999999993},0]
["2021-09-30",44469,0,80,null,0,null,0,"2021-09-30",{"$f":"LOOKUP(I86,KURLAR!B81:B445,KURLAR!C81:C445)","v":8.8432999999999993},0]
["2021-09-30",44469,0,81,null,0,null,0,"2021-09-30",{"$f":"LOOKUP(I87,KURLAR!B82:B446,KURLAR!C82:C446)","v":8.8432999999999993},0]
["2021-09-30",44469,0,82,null,0,null,0,"2021-09-30",{"$f":"LOOKUP(I88,KURLAR!B83:B447,KURLAR!C83:C447)","v":8.8432999999999993},0]
["2021-09-30",44469,0,83,null,0,null,0,"2021-09-30",{"$f":"LOOKUP(I89,KURLAR!B84:B448,KURLAR!C84:C448)","v":8.8432999999999993},0]
["2021-09-30",44469,0,84,null,0,null,0,"2021-09-30",{"$f":"LOOKUP(I90,KURLAR!B85:B449,KURLAR!C85:C449)","v":8.8432999999999993},0]
["2021-09-30",44469,0,85,null,0,null,0,"2021-09-30",{"$f":"LOOKUP(I91,KURLAR!B86:B450,KURLAR!C86:C450)","v":8.8432999999999993},0]
["2021-09-30",44469,0,86,null,0,null,0,"2021-09-30",{"$f":"LOOKUP(I92,KURLAR!B87:B451,KURLAR!C87:C451)","v":8.8432999999999993},0]
["2021-09-30",44469,0,87,null,0,null,0,"2021-09-30",{"$f":"LOOKUP(I93,KURLAR!B88:B452,KURLAR!C88:C452)","v":8.8432999999999993},0]
["2021-09-30",44469,0,88,null,0,null,0,"2021-09-30",{"$f":"LOOKUP(I94,KURLAR!B89:B453,KURLAR!C89:C453)","v":8.8432999999999993},0]
["2021-09-30",44469,0,89,null,0,null,0,"2021-09-30",{"$f":"LOOKUP(I95,KURLAR!B90:B454,KURLAR!C90:C454)","v":8.8432999999999993},0]
["2021-09-30",44469,0,90,null,0,null,0,"2021-09-30",{"$f":"LOOKUP(I96,KURLAR!B91:B455,KURLAR!C91:C455)","v":8.8432999999999993},0]
["2021-09-30",44469,0,91,null,0,null,0,"2021-09-30",{"$f":"LOOKUP(I97,KURLAR!B92:B456,KURLAR!C92:C456)","v":8.8432999999999993},0]
["2021-09-30",44469,0,92,null,0,null,0,"2021-09-30",{"$f":"LOOKUP(I98,KURLAR!B93:B457,KURLAR!C93:C457)","v":8.8432999999999993},0]
["2021-09-30",44469,0,93,null,0,null,0,"2021-09-30",{"$f":"LOOKUP(I99,KURLAR!B94:B458,KURLAR!C94:C458)","v":8.8432999999999993},0]
["2021-09-30",44469,0,94,null,0,null,0,"2021-09-30",{"$f":"LOOKUP(I100,KURLAR!B95:B459,KURLAR!C95:C459)","v":8.8432999999999993},0]
["2021-09-30",{"$f":"A101","v":44469},{"$f":"E101","v":0},95,null,0,null,0,"2021-09-30",{"$f":"LOOKUP(I101,KURLAR!B96:B460,KURLAR!C96:C460)","v":8.8432999999999993},0]
["2021-09-30",44469,0,96,null,0,null,0,"2021-09-30",{"$f":"LOOKUP(I102,KURLAR!B97:B461,KURLAR!C97:C461)","v":8.8432999999999993},0]
["2021-09-30",44469,0,97,null,0,null,0,"2021-09-30",{"$f":"LOOKUP(I103,KURLAR!B98:B462,KURLAR!C98:C462)","v":8.8432999999999993},0]
["2021-09-30",44469,0,98,null,0,null,0,"2021-09-30",{"$f":"LOOKUP(I104,KURLAR!B99:B463,KURLAR!C99:C463)","v":8.8432999999999993},0]
["2021-09-30",44469,0,99,null,0,null,0,"2021-09-30",{"$f":"LOOKUP(I105,KURLAR!B100:B464,KURLAR!C100:C464)","v":8.8432999999999993},0]
["2021-09-30",44469,0,100,null,0,null,0,"2021-09-30",{"$f":"LOOKUP(I106,KURLAR!B101:B465,KURLAR!C101:C465)","v":8.8432999999999993},0]
["2021-09-30",44469,0,101,null,0,null,0,"2021-09-30",{"$f":"LOOKUP(I107,KURLAR!B102:B466,KURLAR!C102:C466)","v":8.8432999999999993},0]
["2021-09-30",44469,0,102,null,0,null,0,"2021-09-30",{"$f":"LOOKUP(I108,KURLAR!B103:B467,KURLAR!C103:C467)","v":8.8432999999999993},0]
["2021-09-30",44469,0,103,null,0,null,0,"2021-09-30",{"$f":"LOOKUP(I109,KURLAR!B104:B468,KURLAR!C104:C468)","v":8.8432999999999993},0]
["2021-09-30",44469,0,104,null,0,null,0,"2021-09-30",{"$f":"LOOKUP(I110,KURLAR!B105:B469,KURLAR!C105:C469)","v":8.8432999999999993},0]
["2021-09-30",44469,0,105,null,0,null,0,"2021-09-30",{"$f":"LOOKUP(I111,KURLAR!B106:B470,KURLAR!C106:C470)","v":8.8432999999999993},0]
["2021-09-30",44469,0,106,null,0,null,0,"2021-09-30",{"$f":"LOOKUP(I112,KURLAR!B107:B471,KURLAR!C107:C471)","v":8.8432999999999993},0]
["2021-09-30",44469,0,107,null,0,null,0,"2021-09-30",{"$f":"LOOKUP(I113,KURLAR!B108:B472,KURLAR!C108:C472)","v":8.8432999999999993},0]
["2021-09-30",44469,0,108,null,0,null,0,"2021-09-30",{"$f":"LOOKUP(I114,KURLAR!B109:B473,KURLAR!C109:C473)","v":8.8432999999999993},0]
["2021-09-30",44469,0,109,null,0,null,0,"2021-09-30",{"$f":"LOOKUP(I115,KURLAR!B110:B474,KURLAR!C110:C474)","v":8.8432999999999993},0]
["2021-09-30",44469,0,110,null,0,null,0,"2021-09-30",{"$f":"LOOKUP(I116,KURLAR!B111:B475,KURLAR!C111:C475)","v":8.8432999999999993},0]
["2021-09-30",44469,0,111,null,0,null,0,"2021-09-30",{"$f":"LOOKUP(I117,KURLAR!B112:B476,KURLAR!C112:C476)","v":8.8432999999999993},0]
["2021-09-30",44469,0,112,null,0,null,0,"2021-09-30",{"$f":"LOOKUP(I118,KURLAR!B113:B477,KURLAR!C113:C477)","v":8.8432999999999993},0]
["2021-09-30",44469,0,113,null,0,null,0,"2021-09-30",{"$f":"LOOKUP(I119,KURLAR!B114:B478,KURLAR!C114:C478)","v":8.8432999999999993},0]
["2021-09-30",44469,0,114,null,0,null,0,"2021-09-30",{"$f":"LOOKUP(I120,KURLAR!B115:B479,KURLAR!C115:C479)","v":8.8432999999999993},0]
["2021-09-30",44469,0,115,null,0,null,0,"2021-09-30",{"$f":"LOOKUP(I121,KURLAR!B116:B480,KURLAR!C116:C480)","v":8.8432999999999993},0]
["2021-09-30",44469,0,116,null,0,null,0,"2021-09-30",{"$f":"LOOKUP(I122,KURLAR!B117:B481,KURLAR!C117:C481)","v":8.8432999999999993},0]
["2021-09-30",44469,0,117,null,0,null,0,"2021-09-30",{"$f":"LOOKUP(I123,KURLAR!B118:B482,KURLAR!C118:C482)","v":8.8432999999999993},0]
["2021-09-30",44469,0,118,null,0,null,0,"2021-09-30",{"$f":"LOOKUP(I124,KURLAR!B119:B483,KURLAR!C119:C483)","v":8.8432999999999993},0]
["2021-09-30",44469,0,119,null,0,null,0,"2021-09-30",{"$f":"LOOKUP(I125,KURLAR!B120:B484,KURLAR!C120:C484)","v":8.8432999999999993},0]
["2021-09-30",{"$f":"A126","v":44469},{"$f":"E126","v":0},120,null,0,null,0,"2021-09-30",{"$f":"LOOKUP(I126,KURLAR!B121:B485,KURLAR!C121:C485)","v":8.8432999999999993},0]
["2021-09-30",44469,0,121,null,{"$f":"F126-G126","v":0},null,{"$f":"H126-G127","v":0},{"$f":"IF(C127>=B127,E127,(A127))","v":"2021-09-30"},{"$f":"LOOKUP(I127,KURLAR!B122:B486,KURLAR!C122:C486)","v":8.8432999999999993},{"$f":"G127*($G$3-J127)","v":0}]
["2021-09-30",{"$f":"A128","v":44469},{"$f":"E128","v":0},122,null,0,null,0,"2021-09-30",{"$f":"LOOKUP(I128,KURLAR!B123:B487,KURLAR!C123:C487)","v":8.8432999999999993},0]
["2021-09-30",44469,0,123,null,0,null,0,"2021-09-30",{"$f":"LOOKUP(I129,KURLAR!B124:B488,KURLAR!C124:C488)","v":8.8432999999999993},0]
["2021-09-30",44469,0,124,null,0,null,0,"2021-09-30",{"$f":"LOOKUP(I130,KURLAR!B125:B489,KURLAR!C125:C489)","v":8.8432999999999993},0]
["2021-09-30",44469,0,125,null,0,null,0,"2021-09-30",{"$f":"LOOKUP(I131,KURLAR!B126:B490,KURLAR!C126:C490)","v":8.8432999999999993},0]
["2021-09-30",44469,0,126,null,0,null,0,"2021-09-30",{"$f":"LOOKUP(I132,KURLAR!B127:B491,KURLAR!C127:C491)","v":8.8432999999999993},0]
["2021-09-30",44469,0,127,null,0,null,0,"2021-09-30",{"$f":"LOOKUP(I133,KURLAR!B128:B492,KURLAR!C128:C492)","v":8.8432999999999993},0]
["2021-09-30",44469,0,128,null,0,null,0,"2021-09-30",{"$f":"LOOKUP(I134,KURLAR!B129:B493,KURLAR!C129:C493)","v":8.8432999999999993},0]
["2021-09-30",44469,0,129,null,0,null,0,"2021-09-30",{"$f":"LOOKUP(I135,KURLAR!B130:B494,KURLAR!C130:C494)","v":8.8432999999999993},0]
["2021-09-30",44469,0,130,null,0,null,0,"2021-09-30",{"$f":"LOOKUP(I136,KURLAR!B131:B495,KURLAR!C131:C495)","v":8.8432999999999993},0]
["2021-09-30",44469,0,131,null,0,null,0,"2021-09-30",{"$f":"LOOKUP(I137,KURLAR!B132:B496,KURLAR!C132:C496)","v":8.8432999999999993},0]
["2021-09-30",44469,0,132,null,0,null,0,"2021-09-30",{"$f":"LOOKUP(I138,KURLAR!B133:B497,KURLAR!C133:C497)","v":8.8432999999999993},0]
["2021-09-30",44469,0,133,null,0,null,0,"2021-09-30",{"$f":"LOOKUP(I139,KURLAR!B134:B498,KURLAR!C134:C498)","v":8.8432999999999993},0]
["2021-09-30",44469,0,134,null,0,null,0,"2021-09-30",{"$f":"LOOKUP(I140,KURLAR!B135:B499,KURLAR!C135:C499)","v":8.8432999999999993},0]
["2021-09-30",44469,0,135,null,0,null,0,"2021-09-30",{"$f":"LOOKUP(I141,KURLAR!B136:B500,KURLAR!C136:C500)","v":8.8432999999999993},0]
["2021-09-30",44469,0,136,null,0,null,0,"2021-09-30",{"$f":"LOOKUP(I142,KURLAR!B137:B501,KURLAR!C137:C501)","v":8.8432999999999993},0]
["2021-09-30",44469,0,137,null,0,null,0,"2021-09-30",{"$f":"LOOKUP(I143,KURLAR!B138:B502,KURLAR!C138:C502)","v":8.8432999999999993},0]
["2021-09-30",44469,0,138,null,0,null,0,"2021-09-30",{"$f":"LOOKUP(I144,KURLAR!B139:B503,KURLAR!C139:C503)","v":8.8432999999999993},0]
["2021-09-30",44469,0,139,null,0,null,0,"2021-09-30",{"$f":"LOOKUP(I145,KURLAR!B140:B504,KURLAR!C140:C504)","v":8.8432999999999993},0]
["2021-09-30",44469,0,140,null,0,null,0,"2021-09-30",{"$f":"LOOKUP(I146,KURLAR!B141:B505,KURLAR!C141:C505)","v":8.8432999999999993},0]
["2021-09-30",44469,0,141,null,0,null,0,"2021-09-30",{"$f":"LOOKUP(I147,KURLAR!B142:B506,KURLAR!C142:C506)","v":8.8432999999999993},0]
["2021-09-30",44469,0,142,null,0,null,0,"2021-09-30",{"$f":"LOOKUP(I148,KURLAR!B143:B507,KURLAR!C143:C507)","v":8.8432999999999993},0]
["2021-09-30",44469,0,143,null,0,null,0,"2021-09-30",{"$f":"LOOKUP(I149,KURLAR!B144:B508,KURLAR!C144:C508)","v":8.8432999999999993},0]
["2021-09-30",44469,0,144,null,0,null,0,"2021-09-30",{"$f":"LOOKUP(I150,KURLAR!B145:B509,KURLAR!C145:C509)","v":8.8432999999999993},0]
["2021-09-30",44469,0,145,null,0,null,0,"2021-09-30",{"$f":"LOOKUP(I151,KURLAR!B146:B510,KURLAR!C146:C510)","v":8.8432999999999993},0]
["2021-09-30",44469,0,146,null,0,null,0,"2021-09-30",{"$f":"LOOKUP(I152,KURLAR!B147:B511,KURLAR!C147:C511)","v":8.8432999999999993},0]
["2021-09-30",44469,0,147,null,0,null,0,"2021-09-30",{"$f":"LOOKUP(I153,KURLAR!B148:B512,KURLAR!C148:C512)","v":8.8432999999999993},0]
["2021-09-30",44469,0,148,null,0,null,0,"2021-09-30",{"$f":"LOOKUP(I154,KURLAR!B149:B513,KURLAR!C149:C513)","v":8.8432999999999993},0]
["2021-09-30",44469,0,149,null,0,null,0,"2021-09-30",{"$f":"LOOKUP(I155,KURLAR!B150:B514,KURLAR!C150:C514)","v":8.8432999999999993},0]
["2021-09-30",44469,0,150,null,0,null,0,"2021-09-30",{"$f":"LOOKUP(I156,KURLAR!B151:B515,KURLAR!C151:C515)","v":8.8432999999999993},0]
["2021-09-30",44469,0,151,null,0,null,0,"2021-09-30",{"$f":"LOOKUP(I157,KURLAR!B152:B516,KURLAR!C152:C516)","v":8.8432999999999993},0]
["2021-09-30",44469,0,152,null,0,null,0,"2021-09-30",{"$f":"LOOKUP(I158,KURLAR!B153:B517,KURLAR!C153:C517)","v":8.8432999999999993},0]
["2021-09-30",44469,0,153,null,0,null,0,"2021-09-30",{"$f":"LOOKUP(I159,KURLAR!B154:B518,KURLAR!C154:C518)","v":8.8432999999999993},0]
["2021-09-30",44469,0,154,null,0,null,0,"2021-09-30",{"$f":"LOOKUP(I160,KURLAR!B155:B519,KURLAR!C155:C519)","v":8.8432999999999993},0]
["2021-09-30",44469,0,155,null,0,null,0,"2021-09-30",{"$f":"LOOKUP(I161,KURLAR!B156:B520,KURLAR!C156:C520)","v":8.8432999999999993},0]
["2021-09-30",44469,0,156,null,0,null,0,"2021-09-30",{"$f":"LOOKUP(I162,KURLAR!B157:B521,KURLAR!C157:C521)","v":8.8432999999999993},0]
["2021-09-30",44469,0,157,null,0,null,0,"2021-09-30",{"$f":"LOOKUP(I163,KURLAR!B158:B522,KURLAR!C158:C522)","v":8.8432999999999993},0]
["2021-09-30",44469,0,158,null,0,null,0,"2021-09-30",{"$f":"LOOKUP(I164,KURLAR!B159:B523,KURLAR!C159:C523)","v":8.8432999999999993},0]
["2021-09-30",44469,0,159,null,0,null,0,"2021-09-30",{"$f":"LOOKUP(I165,KURLAR!B160:B524,KURLAR!C160:C524)","v":8.8432999999999993},0]
["2021-09-30",44469,0,160,null,0,null,0,"2021-09-30",{"$f":"LOOKUP(I166,KURLAR!B161:B525,KURLAR!C161:C525)","v":8.8432999999999993},0]
["2021-09-30",44469,0,161,null,0,null,0,"2021-09-30",{"$f":"LOOKUP(I167,KURLAR!B162:B526,KURLAR!C162:C526)","v":8.8432999999999993},0]
["2021-09-30",44469,0,162,null,0,null,0,"2021-09-30",{"$f":"LOOKUP(I168,KURLAR!B163:B527,KURLAR!C163:C527)","v":8.8432999999999993},0]
["2021-09-30",44469,0,163,null,0,null,0,"2021-09-30",{"$f":"LOOKUP(I169,KURLAR!B164:B528,KURLAR!C164:C528)","v":8.8432999999999993},0]
["2021-09-30",44469,0,164,null,0,null,0,"2021-09-30",{"$f":"LOOKUP(I170,KURLAR!B165:B529,KURLAR!C165:C529)","v":8.8432999999999993},0]
["2021-09-30",44469,0,165,null,0,null,0,"2021-09-30",{"$f":"LOOKUP(I171,KURLAR!B166:B530,KURLAR!C166:C530)","v":8.8432999999999993},0]
["2021-09-30",44469,0,166,null,0,null,0,"2021-09-30",{"$f":"LOOKUP(I172,KURLAR!B167:B531,KURLAR!C167:C531)","v":8.8432999999999993},0]
["2021-09-30",44469,0,167,null,0,null,0,"2021-09-30",{"$f":"LOOKUP(I173,KURLAR!B168:B532,KURLAR!C168:C532)","v":8.8432999999999993},0]
["2021-09-30",44469,0,168,null,0,null,0,"2021-09-30",{"$f":"LOOKUP(I174,KURLAR!B169:B533,KURLAR!C169:C533)","v":8.8432999999999993},0]
["2021-09-30",44469,0,169,null,0,null,0,"2021-09-30",{"$f":"LOOKUP(I175,KURLAR!B170:B534,KURLAR!C170:C534)","v":8.8432999999999993},0]
["2021-09-30",44469,0,170,null,0,null,0,"2021-09-30",{"$f":"LOOKUP(I176,KURLAR!B171:B535,KURLAR!C171:C535)","v":8.8432999999999993},0]
["2021-09-30",44469,0,171,null,0,null,0,"2021-09-30",{"$f":"LOOKUP(I177,KURLAR!B172:B536,KURLAR!C172:C536)","v":8.8432999999999993},0]
["2021-09-30",44469,0,172,null,0,null,0,"2021-09-30",{"$f":"LOOKUP(I178,KURLAR!B173:B537,KURLAR!C173:C537)","v":8.8432999999999993},0]
["2021-09-30",44469,0,173,null,0,null,0,"2021-09-30",{"$f":"LOOKUP(I179,KURLAR!B174:B538,KURLAR!C174:C538)","v":8.8432999999999993},0]
["2021-09-30",44469,0,174,null,0,null,0,"2021-09-30",{"$f":"LOOKUP(I180,KURLAR!B175:B539,KURLAR!C175:C539)","v":8.8432999999999993},0]
["2021-09-30",44469,0,175,null,0,null,0,"2021-09-30",{"$f":"LOOKUP(I181,KURLAR!B176:B540,KURLAR!C176:C540)","v":8.8432999999999993},0]
["2021-09-30",44469,0,176,null,0,null,0,"2021-09-30",{"$f":"LOOKUP(I182,KURLAR!B177:B541,KURLAR!C177:C541)","v":8.8432999999999993},0]
["2021-09-30",44469,0,177,null,0,null,0,"2021-09-30",{"$f":"LOOKUP(I183,KURLAR!B178:B542,KURLAR!C178:C542)","v":8.8432999999999993},0]
["2021-09-30",44469,0,178,null,0,null,0,"2021-09-30",{"$f":"LOOKUP(I184,KURLAR!B179:B543,KURLAR!C179:C543)","v":8.8432999999999993},0]
["2021-09-30",44469,0,179,null,0,null,0,"2021-09-30",{"$f":"LOOKUP(I185,KURLAR!B180:B544,KURLAR!C180:C544)","v":8.8432999999999993},0]
["2021-09-30",44469,0,180,null,0,null,0,"2021-09-30",{"$f":"LOOKUP(I186,KURLAR!B181:B545,KURLAR!C181:C545)","v":8.8432999999999993},0]
["2021-09-30",44469,0,181,null,0,null,0,"2021-09-30",{"$f":"LOOKUP(I187,KURLAR!B182:B546,KURLAR!C182:C546)","v":8.8432999999999993},0]
["2021-09-30",44469,0,182,null,0,null,0,"2021-09-30",{"$f":"LOOKUP(I188,KURLAR!B183:B547,KURLAR!C183:C547)","v":8.8432999999999993},0]
["2021-09-30",44469,0,183,null,0,null,0,"2021-09-30",{"$f":"LOOKUP(I189,KURLAR!B184:B548,KURLAR!C184:C548)","v":8.8432999999999993},0]
["2021-09-30",44469,0,184,null,0,null,0,"2021-09-30",{"$f":"LOOKUP(I190,KURLAR!B185:B549,KURLAR!C185:C549)","v":8.8432999999999993},0]
["2021-09-30",44469,0,185,null,{"$f":"F190-G190","v":0},null,{"$f":"H190-G191","v":0},{"$f":"IF(C191>=B191,E191,(A191))","v":"2021-09-30"},{"$f":"LOOKUP(I191,KURLAR!B186:B550,KURLAR!C186:C550)","v":8.8432999999999993},{"$f":"G191*($G$3-J191)","v":0}]
["2021-09-30",{"$f":"A192","v":44469},{"$f":"E192","v":0},186,null,0,null,0,"2021-09-30",{"$f":"LOOKUP(I192,KURLAR!B187:B551,KURLAR!C187:C551)","v":8.8432999999999993},0]
["2021-09-30",44469,0,187,null,0,null,0,"2021-09-30",{"$f":"LOOKUP(I193,KURLAR!B188:B552,KURLAR!C188:C552)","v":8.8432999999999993},0]
["2021-09-30",44469,0,188,null,0,null,0,"2021-09-30",{"$f":"LOOKUP(I194,KURLAR!B189:B553,KURLAR!C189:C553)","v":8.8432999999999993},0]
["2021-09-30",44469,0,189,null,0,null,0,"2021-09-30",{"$f":"LOOKUP(I195,KURLAR!B190:B554,KURLAR!C190:C554)","v":8.8432999999999993},0]
["2021-09-30",44469,0,190,null,0,null,0,"2021-09-30",{"$f":"LOOKUP(I196,KURLAR!B191:B555,KURLAR!C191:C555)","v":8.8432999999999993},0]
["2021-09-30",44469,0,191,null,0,null,0,"2021-09-30",{"$f":"LOOKUP(I197,KURLAR!B192:B556,KURLAR!C192:C556)","v":8.8432999999999993},0]
["2021-09-30",44469,0,192,null,0,null,0,"2021-09-30",{"$f":"LOOKUP(I198,KURLAR!B193:B557,KURLAR!C193:C557)","v":8.8432999999999993},0]
["2021-09-30",44469,0,193,null,0,null,0,"2021-09-30",{"$f":"LOOKUP(I199,KURLAR!B194:B558,KURLAR!C194:C558)","v":8.8432999999999993},0]
["2021-09-30",44469,0,194,null,0,null,0,"2021-09-30",{"$f":"LOOKUP(I200,KURLAR!B195:B559,KURLAR!C195:C559)","v":8.8432999999999993},0]
["2021-09-30",44469,0,195,null,0,null,0,"2021-09-30",{"$f":"LOOKUP(I201,KURLAR!B196:B560,KURLAR!C196:C560)","v":8.8432999999999993},0]
["2021-09-30",44469,0,196,null,0,null,0,"2021-09-30",{"$f":"LOOKUP(I202,KURLAR!B197:B561,KURLAR!C197:C561)","v":8.8432999999999993},0]
["2021-09-30",44469,0,197,null,0,null,0,"2021-09-30",{"$f":"LOOKUP(I203,KURLAR!B198:B562,KURLAR!C198:C562)","v":8.8432999999999993},0]
["2021-09-30",44469,0,198,null,0,null,0,"2021-09-30",{"$f":"LOOKUP(I204,KURLAR!B199:B563,KURLAR!C199:C563)","v":8.8432999999999993},0]
["2021-09-30",44469,0,199,null,0,null,0,"2021-09-30",{"$f":"LOOKUP(I205,KURLAR!B200:B564,KURLAR!C200:C564)","v":8.8432999999999993},0]
["2021-09-30",44469,0,200,null,0,null,0,"2021-09-30",{"$f":"LOOKUP(I206,KURLAR!B201:B565,KURLAR!C201:C565)","v":8.8432999999999993},0]
[null,null,null,"GENEL TOPLAM",null,null,{"$f":"SUM(G7:G206)","v":0},null,null,null,{"$f":"SUM(K7:K206)","v":0}]

{"sheet":"AVRO","index":3,"n_rows":207,"n_cols":11,"rows_kept":207,"cut":false,"hidden":false,"merged":[[4,3,4,7],[4,8,4,10],[206,3,206,5]]}
[]
[null,null,null,null,null,null,"Değerlemede Dikkate Alınacak Kur",null,"Kur Korumalı Mevduat Hesabına Aktarılacak Tutar","İstisnadan Yararlanma Oranı","İstisnadan Yararlanabilecek Kazanç Tutarı"]
[null,null,null,null,"DÖVİZ TEVDİAT HESABINDA \n31/12/2021 TARİHİ İTİBARİYLE YER ALAN DÖNEM SONU AVRO MİKTARI",null,{"$f":"KURLAR!D366","v":14.6823},null,null,{"$f":"I3/F3","v":{"$error":"#DIV/0!"}},{"$f":"K207*J3","v":{"$error":"#DIV/0!"}}]
[]
[null,null,null,"EN SON ALIM YAPILAN DÖVİZLERİN ALIM TARİH VE MİKTAR DURUMU",null,null,null,null,"DEĞERLEME İŞLEMLERİ"]
[null,"30/09/2021 Tarihinin Sayı Değeri","Alım Tarihinin Sayı Değeri","SIRA NO","Alım Tarihi","Yazılabilecek Max Alım Miktarı","Alım Miktarı","Kalan Bir Önceki Max  Alım Miktarı","Değerlemede Dikkate Alınacak Tarih","Değerlemede Dikkate Alınacak Kur","Hesaplanan Kur Farkı Kazancı"]
["2021-09-30",{"$f":"A7","v":44469},{"$f":"E7","v":0},1,null,{"$f":"F3","v":0},null,{"$f":"F3-G7","v":0},{"$f":"IF(C7>=B7,E7,(A7))","v":"2021-09-30"},{"$f":"LOOKUP(I7,KURLAR!B2:B366,KURLAR!D2:D366)","v":10.313499999999999},{"$f":"G7*($G$3-J7)","v":0}]
["2021-09-30",{"$f":"A8","v":44469},0,2,null,{"$f":"F7-G7","v":0},null,{"$f":"H7-G8","v":0},{"$f":"IF(C8>=B8,E8,(A8))","v":"2021-09-30"},{"$f":"LOOKUP(I8,KURLAR!B3:B367,KURLAR!D3:D367)","v":10.313499999999999},{"$f":"G8*($G$3-J8)","v":0}]
["2021-09-30",44469,0,3,null,{"$f":"F8-G8","v":0},null,{"$f":"H8-G9","v":0},"2021-09-30",{"$f":"LOOKUP(I9,KURLAR!B4:B368,KURLAR!D4:D368)","v":10.313499999999999},0]
["2021-09-30",44469,0,4,null,0,null,0,"2021-09-30",{"$f":"LOOKUP(I10,KURLAR!B5:B369,KURLAR!D5:D369)","v":10.313499999999999},0]
["2021-09-30",44469,0,5,null,0,null,0,"2021-09-30",{"$f":"LOOKUP(I11,KURLAR!B6:B370,KURLAR!D6:D370)","v":10.313499999999999},0]
["2021-09-30",44469,0,6,null,0,null,0,"2021-09-30",{"$f":"LOOKUP(I12,KURLAR!B7:B371,KURLAR!D7:D371)","v":10.313499999999999},0]
["2021-09-30",44469,0,7,null,0,null,0,"2021-09-30",{"$f":"LOOKUP(I13,KURLAR!B8:B372,KURLAR!D8:D372)","v":10.313499999999999},0]
["2021-09-30",44469,0,8,null,0,null,0,"2021-09-30",{"$f":"LOOKUP(I14,KURLAR!B9:B373,KURLAR!D9:D373)","v":10.313499999999999},0]
["2021-09-30",44469,0,9,null,0,null,0,"2021-09-30",{"$f":"LOOKUP(I15,KURLAR!B10:B374,KURLAR!D10:D374)","v":10.313499999999999},0]
["2021-09-30",44469,0,10,null,0,null,0,"2021-09-30",{"$f":"LOOKUP(I16,KURLAR!B11:B375,KURLAR!D11:D375)","v":10.313499999999999},0]
["2021-09-30",44469,0,11,null,0,null,0,"2021-09-30",{"$f":"LOOKUP(I17,KURLAR!B12:B376,KURLAR!D12:D376)","v":10.313499999999999},0]
["2021-09-30",44469,0,12,null,0,null,0,"2021-09-30",{"$f":"LOOKUP(I18,KURLAR!B13:B377,KURLAR!D13:D377)","v":10.313499999999999},0]
["2021-09-30",44469,0,13,null,0,null,0,"2021-09-30",{"$f":"LOOKUP(I19,KURLAR!B14:B378,KURLAR!D14:D378)","v":10.313499999999999},0]
["2021-09-30",44469,0,14,null,0,null,0,"2021-09-30",{"$f":"LOOKUP(I20,KURLAR!B15:B379,KURLAR!D15:D379)","v":10.313499999999999},0]
["2021-09-30",44469,0,15,null,0,null,0,"2021-09-30",{"$f":"LOOKUP(I21,KURLAR!B16:B380,KURLAR!D16:D380)","v":10.313499999999999},0]
["2021-09-30",44469,0,16,null,0,null,0,"2021-09-30",{"$f":"LOOKUP(I22,KURLAR!B17:B381,KURLAR!D17:D381)","v":10.313499999999999},0]
["2021-09-30",44469,0,17,null,0,null,0,"2021-09-30",{"$f":"LOOKUP(I23,KURLAR!B18:B382,KURLAR!D18:D382)","v":10.313499999999999},0]
["2021-09-30",44469,0,18,null,0,null,0,"2021-09-30",{"$f":"LOOKUP(I24,KURLAR!B19:B383,KURLAR!D19:D383)","v":10.313499999999999},0]
["2021-09-30",44469,0,19,null,0,null,0,"2021-09-30",{"$f":"LOOKUP(I25,KURLAR!B20:B384,KURLAR!D20:D384)","v":10.313499999999999},0]
["2021-09-30",44469,0,20,null,0,null,0,"2021-09-30",{"$f":"LOOKUP(I26,KURLAR!B21:B385,KURLAR!D21:D385)","v":10.313499999999999},0]
["2021-09-30",44469,0,21,null,0,null,0,"2021-09-30",{"$f":"LOOKUP(I27,KURLAR!B22:B386,KURLAR!D22:D386)","v":10.313499999999999},0]
["2021-09-30",44469,0,22,null,0,null,0,"2021-09-30",{"$f":"LOOKUP(I28,KURLAR!B23:B387,KURLAR!D23:D387)","v":10.313499999999999},0]
["2021-09-30",44469,0,23,null,0,null,0,"2021-09-30",{"$f":"LOOKUP(I29,KURLAR!B24:B388,KURLAR!D24:D388)","v":10.313499999999999},0]
["2021-09-30",44469,0,24,null,0,null,0,"2021-09-30",{"$f":"LOOKUP(I30,KURLAR!B25:B389,KURLAR!D25:D389)","v":10.313499999999999},0]
["2021-09-30",44469,0,25,null,0,null,0,"2021-09-30",{"$f":"LOOKUP(I31,KURLAR!B26:B390,KURLAR!D26:D390)","v":10.313499999999999},0]
["2021-09-30",44469,0,26,null,0,null,0,"2021-09-30",{"$f":"LOOKUP(I32,KURLAR!B27:B391,KURLAR!D27:D391)","v":10.313499999999999},0]
["2021-09-30",44469,0,27,null,0,null,0,"2021-09-30",{"$f":"LOOKUP(I33,KURLAR!B28:B392,KURLAR!D28:D392)","v":10.313499999999999},0]
["2021-09-30",44469,0,28,null,0,null,0,"2021-09-30",{"$f":"LOOKUP(I34,KURLAR!B29:B393,KURLAR!D29:D393)","v":10.313499999999999},0]
["2021-09-30",44469,0,29,null,0,null,0,"2021-09-30",{"$f":"LOOKUP(I35,KURLAR!B30:B394,KURLAR!D30:D394)","v":10.313499999999999},0]
["2021-09-30",44469,0,30,null,0,null,0,"2021-09-30",{"$f":"LOOKUP(I36,KURLAR!B31:B395,KURLAR!D31:D395)","v":10.313499999999999},0]
["2021-09-30",44469,0,31,null,0,null,0,"2021-09-30",{"$f":"LOOKUP(I37,KURLAR!B32:B396,KURLAR!D32:D396)","v":10.313499999999999},0]
["2021-09-30",44469,0,32,null,0,null,0,"2021-09-30",{"$f":"LOOKUP(I38,KURLAR!B33:B397,KURLAR!D33:D397)","v":10.313499999999999},0]
["2021-09-30",44469,0,33,null,0,null,0,"2021-09-30",{"$f":"LOOKUP(I39,KURLAR!B34:B398,KURLAR!D34:D398)","v":10.313499999999999},0]
["2021-09-30",44469,0,34,null,0,null,0,"2021-09-30",{"$f":"LOOKUP(I40,KURLAR!B35:B399,KURLAR!D35:D399)","v":10.313499999999999},0]
["2021-09-30",44469,0,35,null,0,null,0,"2021-09-30",{"$f":"LOOKUP(I41,KURLAR!B36:B400,KURLAR!D36:D400)","v":10.313499999999999},0]
["2021-09-30",44469,0,36,null,0,null,0,"2021-09-30",{"$f":"LOOKUP(I42,KURLAR!B37:B401,KURLAR!D37:D401)","v":10.313499999999999},0]
["2021-09-30",44469,0,37,null,0,null,0,"2021-09-30",{"$f":"LOOKUP(I43,KURLAR!B38:B402,KURLAR!D38:D402)","v":10.313499999999999},0]
["2021-09-30",44469,0,38,null,0,null,0,"2021-09-30",{"$f":"LOOKUP(I44,KURLAR!B39:B403,KURLAR!D39:D403)","v":10.313499999999999},0]
["2021-09-30",44469,0,39,null,0,null,0,"2021-09-30",{"$f":"LOOKUP(I45,KURLAR!B40:B404,KURLAR!D40:D404)","v":10.313499999999999},0]
["2021-09-30",44469,0,40,null,0,null,0,"2021-09-30",{"$f":"LOOKUP(I46,KURLAR!B41:B405,KURLAR!D41:D405)","v":10.313499999999999},0]
["2021-09-30",44469,0,41,null,0,null,0,"2021-09-30",{"$f":"LOOKUP(I47,KURLAR!B42:B406,KURLAR!D42:D406)","v":10.313499999999999},0]
["2021-09-30",44469,0,42,null,0,null,0,"2021-09-30",{"$f":"LOOKUP(I48,KURLAR!B43:B407,KURLAR!D43:D407)","v":10.313499999999999},0]
["2021-09-30",44469,0,43,null,0,null,0,"2021-09-30",{"$f":"LOOKUP(I49,KURLAR!B44:B408,KURLAR!D44:D408)","v":10.313499999999999},0]
["2021-09-30",44469,0,44,null,0,null,0,"2021-09-30",{"$f":"LOOKUP(I50,KURLAR!B45:B409,KURLAR!D45:D409)","v":10.313499999999999},0]
["2021-09-30",44469,0,45,null,0,null,0,"2021-09-30",{"$f":"LOOKUP(I51,KURLAR!B46:B410,KURLAR!D46:D410)","v":10.313499999999999},0]
["2021-09-30",44469,0,46,null,0,null,0,"2021-09-30",{"$f":"LOOKUP(I52,KURLAR!B47:B411,KURLAR!D47:D411)","v":10.313499999999999},0]
["2021-09-30",44469,0,47,null,0,null,0,"2021-09-30",{"$f":"LOOKUP(I53,KURLAR!B48:B412,KURLAR!D48:D412)","v":10.313499999999999},0]
["2021-09-30",44469,0,48,null,0,null,0,"2021-09-30",{"$f":"LOOKUP(I54,KURLAR!B49:B413,KURLAR!D49:D413)","v":10.313499999999999},0]
["2021-09-30",44469,0,49,null,0,null,0,"2021-09-30",{"$f":"LOOKUP(I55,KURLAR!B50:B414,KURLAR!D50:D414)","v":10.313499999999999},0]
["2021-09-30",44469,0,50,null,0,null,0,"2021-09-30",{"$f":"LOOKUP(I56,KURLAR!B51:B415,KURLAR!D51:D415)","v":10.313499999999999},0]
["2021-09-30",44469,0,51,null,0,null,0,"2021-09-30",{"$f":"LOOKUP(I57,KURLAR!B52:B416,KURLAR!D52:D416)","v":10.313499999999999},0]
["2021-09-30",44469,0,52,null,0,null,0,"2021-09-30",{"$f":"LOOKUP(I58,KURLAR!B53:B417,KURLAR!D53:D417)","v":10.313499999999999},0]
["2021-09-30",44469,0,53,null,0,null,0,"2021-09-30",{"$f":"LOOKUP(I59,KURLAR!B54:B418,KURLAR!D54:D418)","v":10.313499999999999},0]
["2021-09-30",44469,0,54,null,0,null,0,"2021-09-30",{"$f":"LOOKUP(I60,KURLAR!B55:B419,KURLAR!D55:D419)","v":10.313499999999999},0]
["2021-09-30",44469,0,55,null,0,null,0,"2021-09-30",{"$f":"LOOKUP(I61,KURLAR!B56:B420,KURLAR!D56:D420)","v":10.313499999999999},0]
["2021-09-30",44469,0,56,null,0,null,0,"2021-09-30",{"$f":"LOOKUP(I62,KURLAR!B57:B421,KURLAR!D57:D421)","v":10.313499999999999},0]
["2021-09-30",44469,0,57,null,0,null,0,"2021-09-30",{"$f":"LOOKUP(I63,KURLAR!B58:B422,KURLAR!D58:D422)","v":10.313499999999999},0]
["2021-09-30",44469,0,58,null,0,null,0,"2021-09-30",{"$f":"LOOKUP(I64,KURLAR!B59:B423,KURLAR!D59:D423)","v":10.313499999999999},0]
["2021-09-30",44469,0,59,null,0,null,0,"2021-09-30",{"$f":"LOOKUP(I65,KURLAR!B60:B424,KURLAR!D60:D424)","v":10.313499999999999},0]
["2021-09-30",44469,0,60,null,0,null,0,"2021-09-30",{"$f":"LOOKUP(I66,KURLAR!B61:B425,KURLAR!D61:D425)","v":10.313499999999999},0]
["2021-09-30",44469,0,61,null,0,null,0,"2021-09-30",{"$f":"LOOKUP(I67,KURLAR!B62:B426,KURLAR!D62:D426)","v":10.313499999999999},0]
["2021-09-30",44469,0,62,null,0,null,0,"2021-09-30",{"$f":"LOOKUP(I68,KURLAR!B63:B427,KURLAR!D63:D427)","v":10.313499999999999},0]
["2021-09-30",44469,0,63,null,0,null,0,"2021-09-30",{"$f":"LOOKUP(I69,KURLAR!B64:B428,KURLAR!D64:D428)","v":10.313499999999999},0]
["2021-09-30",44469,0,64,null,0,null,0,"2021-09-30",{"$f":"LOOKUP(I70,KURLAR!B65:B429,KURLAR!D65:D429)","v":10.313499999999999},0]
["2021-09-30",44469,{"$f":"E71","v":0},65,null,0,null,0,"2021-09-30",{"$f":"LOOKUP(I71,KURLAR!B66:B430,KURLAR!D66:D430)","v":10.313499999999999},0]
["2021-09-30",{"$f":"A72","v":44469},0,66,null,0,null,0,{"$f":"IF(C72>=B72,E72,(A72))","v":"2021-09-30"},{"$f":"LOOKUP(I72,KURLAR!B67:B431,KURLAR!D67:D431)","v":10.313499999999999},{"$f":"G72*($G$3-J72)","v":0}]
["2021-09-30",44469,0,67,null,{"$f":"F72-G72","v":0},null,{"$f":"H72-G73","v":0},"2021-09-30",{"$f":"LOOKUP(I73,KURLAR!B68:B432,KURLAR!D68:D432)","v":10.313499999999999},0]
["2021-09-30",44469,0,68,null,0,null,0,"2021-09-30",{"$f":"LOOKUP(I74,KURLAR!B69:B433,KURLAR!D69:D433)","v":10.313499999999999},0]
["2021-09-30",44469,0,69,null,0,null,0,"2021-09-30",{"$f":"LOOKUP(I75,KURLAR!B70:B434,KURLAR!D70:D434)","v":10.313499999999999},0]
["2021-09-30",44469,0,70,null,0,null,0,"2021-09-30",{"$f":"LOOKUP(I76,KURLAR!B71:B435,KURLAR!D71:D435)","v":10.313499999999999},0]
["2021-09-30",44469,0,71,null,0,null,0,"2021-09-30",{"$f":"LOOKUP(I77,KURLAR!B72:B436,KURLAR!D72:D436)","v":10.313499999999999},0]
["2021-09-30",44469,0,72,null,0,null,0,"2021-09-30",{"$f":"LOOKUP(I78,KURLAR!B73:B437,KURLAR!D73:D437)","v":10.313499999999999},0]
["2021-09-30",44469,0,73,null,0,null,0,"2021-09-30",{"$f":"LOOKUP(I79,KURLAR!B74:B438,KURLAR!D74:D438)","v":10.313499999999999},0]
["2021-09-30",44469,0,74,null,0,null,0,"2021-09-30",{"$f":"LOOKUP(I80,KURLAR!B75:B439,KURLAR!D75:D439)","v":10.313499999999999},0]
["2021-09-30",44469,0,75,null,0,null,0,"2021-09-30",{"$f":"LOOKUP(I81,KURLAR!B76:B440,KURLAR!D76:D440)","v":10.313499999999999},0]
["2021-09-30",44469,0,76,null,0,null,0,"2021-09-30",{"$f":"LOOKUP(I82,KURLAR!B77:B441,KURLAR!D77:D441)","v":10.313499999999999},0]
["2021-09-30",44469,0,77,null,0,null,0,"2021-09-30",{"$f":"LOOKUP(I83,KURLAR!B78:B442,KURLAR!D78:D442)","v":10.313499999999999},0]
["2021-09-30",44469,0,78,null,0,null,0,"2021-09-30",{"$f":"LOOKUP(I84,KURLAR!B79:B443,KURLAR!D79:D443)","v":10.313499999999999},0]
["2021-09-30",44469,0,79,null,0,null,0,"2021-09-30",{"$f":"LOOKUP(I85,KURLAR!B80:B444,KURLAR!D80:D444)","v":10.313499999999999},0]
["2021-09-30",44469,0,80,null,0,null,0,"2021-09-30",{"$f":"LOOKUP(I86,KURLAR!B81:B445,KURLAR!D81:D445)","v":10.313499999999999},0]
["2021-09-30",44469,0,81,null,0,null,0,"2021-09-30",{"$f":"LOOKUP(I87,KURLAR!B82:B446,KURLAR!D82:D446)","v":10.313499999999999},0]
["2021-09-30",44469,0,82,null,0,null,0,"2021-09-30",{"$f":"LOOKUP(I88,KURLAR!B83:B447,KURLAR!D83:D447)","v":10.313499999999999},0]
["2021-09-30",44469,0,83,null,0,null,0,"2021-09-30",{"$f":"LOOKUP(I89,KURLAR!B84:B448,KURLAR!D84:D448)","v":10.313499999999999},0]
["2021-09-30",44469,0,84,null,0,null,0,"2021-09-30",{"$f":"LOOKUP(I90,KURLAR!B85:B449,KURLAR!D85:D449)","v":10.313499999999999},0]
["2021-09-30",44469,0,85,null,0,null,0,"2021-09-30",{"$f":"LOOKUP(I91,KURLAR!B86:B450,KURLAR!D86:D450)","v":10.313499999999999},0]
["2021-09-30",44469,0,86,null,0,null,0,"2021-09-30",{"$f":"LOOKUP(I92,KURLAR!B87:B451,KURLAR!D87:D451)","v":10.313499999999999},0]
["2021-09-30",44469,0,87,null,0,null,0,"2021-09-30",{"$f":"LOOKUP(I93,KURLAR!B88:B452,KURLAR!D88:D452)","v":10.313499999999999},0]
["2021-09-30",44469,0,88,null,0,null,0,"2021-09-30",{"$f":"LOOKUP(I94,KURLAR!B89:B453,KURLAR!D89:D453)","v":10.313499999999999},0]
["2021-09-30",44469,0,89,null,0,null,0,"2021-09-30",{"$f":"LOOKUP(I95,KURLAR!B90:B454,KURLAR!D90:D454)","v":10.313499999999999},0]
["2021-09-30",44469,0,90,null,0,null,0,"2021-09-30",{"$f":"LOOKUP(I96,KURLAR!B91:B455,KURLAR!D91:D455)","v":10.313499999999999},0]
["2021-09-30",44469,0,91,null,0,null,0,"2021-09-30",{"$f":"LOOKUP(I97,KURLAR!B92:B456,KURLAR!D92:D456)","v":10.313499999999999},0]
["2021-09-30",44469,0,92,null,0,null,0,"2021-09-30",{"$f":"LOOKUP(I98,KURLAR!B93:B457,KURLAR!D93:D457)","v":10.313499999999999},0]
["2021-09-30",44469,0,93,null,0,null,0,"2021-09-30",{"$f":"LOOKUP(I99,KURLAR!B94:B458,KURLAR!D94:D458)","v":10.313499999999999},0]
["2021-09-30",44469,0,94,null,0,null,0,"2021-09-30",{"$f":"LOOKUP(I100,KURLAR!B95:B459,KURLAR!D95:D459)","v":10.313499999999999},0]
["2021-09-30",44469,0,95,null,0,null,0,"2021-09-30",{"$f":"LOOKUP(I101,KURLAR!B96:B460,KURLAR!D96:D460)","v":10.313499999999999},0]
["2021-09-30",44469,0,96,null,0,null,0,"2021-09-30",{"$f":"LOOKUP(I102,KURLAR!B97:B461,KURLAR!D97:D461)","v":10.313499999999999},0]
["2021-09-30",44469,0,97,null,0,null,0,"2021-09-30",{"$f":"LOOKUP(I103,KURLAR!B98:B462,KURLAR!D98:D462)","v":10.313499999999999},0]
["2021-09-30",44469,0,98,null,0,null,0,"2021-09-30",{"$f":"LOOKUP(I104,KURLAR!B99:B463,KURLAR!D99:D463)","v":10.313499999999999},0]
["2021-09-30",44469,0,99,null,0,null,0,"2021-09-30",{"$f":"LOOKUP(I105,KURLAR!B100:B464,KURLAR!D100:D464)","v":10.313499999999999},0]
["2021-09-30",44469,0,100,null,0,null,0,"2021-09-30",{"$f":"LOOKUP(I106,KURLAR!B101:B465,KURLAR!D101:D465)","v":10.313499999999999},0]
["2021-09-30",44469,0,101,null,0,null,0,"2021-09-30",{"$f":"LOOKUP(I107,KURLAR!B102:B466,KURLAR!D102:D466)","v":10.313499999999999},0]
["2021-09-30",44469,0,102,null,0,null,0,"2021-09-30",{"$f":"LOOKUP(I108,KURLAR!B103:B467,KURLAR!D103:D467)","v":10.313499999999999},0]
["2021-09-30",44469,0,103,null,0,null,0,"2021-09-30",{"$f":"LOOKUP(I109,KURLAR!B104:B468,KURLAR!D104:D468)","v":10.313499999999999},0]
["2021-09-30",44469,0,104,null,0,null,0,"2021-09-30",{"$f":"LOOKUP(I110,KURLAR!B105:B469,KURLAR!D105:D469)","v":10.313499999999999},0]
["2021-09-30",44469,0,105,null,0,null,0,"2021-09-30",{"$f":"LOOKUP(I111,KURLAR!B106:B470,KURLAR!D106:D470)","v":10.313499999999999},0]
["2021-09-30",44469,0,106,null,0,null,0,"2021-09-30",{"$f":"LOOKUP(I112,KURLAR!B107:B471,KURLAR!D107:D471)","v":10.313499999999999},0]
["2021-09-30",44469,0,107,null,0,null,0,"2021-09-30",{"$f":"LOOKUP(I113,KURLAR!B108:B472,KURLAR!D108:D472)","v":10.313499999999999},0]
["2021-09-30",44469,0,108,null,0,null,0,"2021-09-30",{"$f":"LOOKUP(I114,KURLAR!B109:B473,KURLAR!D109:D473)","v":10.313499999999999},0]
["2021-09-30",44469,0,109,null,0,null,0,"2021-09-30",{"$f":"LOOKUP(I115,KURLAR!B110:B474,KURLAR!D110:D474)","v":10.313499999999999},0]
["2021-09-30",44469,0,110,null,0,null,0,"2021-09-30",{"$f":"LOOKUP(I116,KURLAR!B111:B475,KURLAR!D111:D475)","v":10.313499999999999},0]
["2021-09-30",44469,0,111,null,0,null,0,"2021-09-30",{"$f":"LOOKUP(I117,KURLAR!B112:B476,KURLAR!D112:D476)","v":10.313499999999999},0]
["2021-09-30",44469,0,112,null,0,null,0,"2021-09-30",{"$f":"LOOKUP(I118,KURLAR!B113:B477,KURLAR!D113:D477)","v":10.313499999999999},0]
["2021-09-30",44469,0,113,null,0,null,0,"2021-09-30",{"$f":"LOOKUP(I119,KURLAR!B114:B478,KURLAR!D114:D478)","v":10.313499999999999},0]
["2021-09-30",44469,0,114,null,0,null,0,"2021-09-30",{"$f":"LOOKUP(I120,KURLAR!B115:B479,KURLAR!D115:D479)","v":10.313499999999999},0]
["2021-09-30",44469,0,115,null,0,null,0,"2021-09-30",{"$f":"LOOKUP(I121,KURLAR!B116:B480,KURLAR!D116:D480)","v":10.313499999999999},0]
["2021-09-30",44469,0,116,null,0,null,0,"2021-09-30",{"$f":"LOOKUP(I122,KURLAR!B117:B481,KURLAR!D117:D481)","v":10.313499999999999},0]
["2021-09-30",44469,0,117,null,0,null,0,"2021-09-30",{"$f":"LOOKUP(I123,KURLAR!B118:B482,KURLAR!D118:D482)","v":10.313499999999999},0]
["2021-09-30",44469,0,118,null,0,null,0,"2021-09-30",{"$f":"LOOKUP(I124,KURLAR!B119:B483,KURLAR!D119:D483)","v":10.313499999999999},0]
["2021-09-30",44469,0,119,null,0,null,0,"2021-09-30",{"$f":"LOOKUP(I125,KURLAR!B120:B484,KURLAR!D120:D484)","v":10.313499999999999},0]
["2021-09-30",44469,0,120,null,0,null,0,"2021-09-30",{"$f":"LOOKUP(I126,KURLAR!B121:B485,KURLAR!D121:D485)","v":10.313499999999999},0]
["2021-09-30",{"$f":"A127","v":44469},{"$f":"E127","v":0},121,null,{"$f":"F126-G126","v":0},null,{"$f":"H126-G127","v":0},{"$f":"IF(C127>=B127,E127,(A127))","v":"2021-09-30"},{"$f":"LOOKUP(I127,KURLAR!B122:B486,KURLAR!D122:D486)","v":10.313499999999999},{"$f":"G127*($G$3-J127)","v":0}]
["2021-09-30",44469,0,122,null,0,null,0,"2021-09-30",{"$f":"LOOKUP(I128,KURLAR!B123:B487,KURLAR!D123:D487)","v":10.313499999999999},0]
["2021-09-30",44469,0,123,null,0,null,0,"2021-09-30",{"$f":"LOOKUP(I129,KURLAR!B124:B488,KURLAR!D124:D488)","v":10.313499999999999},0]
["2021-09-30",44469,0,124,null,0,null,0,"2021-09-30",{"$f":"LOOKUP(I130,KURLAR!B125:B489,KURLAR!D125:D489)","v":10.313499999999999},0]
["2021-09-30",44469,0,125,null,0,null,0,"2021-09-30",{"$f":"LOOKUP(I131,KURLAR!B126:B490,KURLAR!D126:D490)","v":10.313499999999999},0]
["2021-09-30",44469,0,126,null,0,null,0,"2021-09-30",{"$f":"LOOKUP(I132,KURLAR!B127:B491,KURLAR!D127:D491)","v":10.313499999999999},0]
["2021-09-30",44469,0,127,null,0,null,0,"2021-09-30",{"$f":"LOOKUP(I133,KURLAR!B128:B492,KURLAR!D128:D492)","v":10.313499999999999},0]
["2021-09-30",44469,0,128,null,0,null,0,"2021-09-30",{"$f":"LOOKUP(I134,KURLAR!B129:B493,KURLAR!D129:D493)","v":10.313499999999999},0]
["2021-09-30",44469,0,129,null,0,null,0,"2021-09-30",{"$f":"LOOKUP(I135,KURLAR!B130:B494,KURLAR!D130:D494)","v":10.313499999999999},0]
["2021-09-30",44469,0,130,null,0,null,0,"2021-09-30",{"$f":"LOOKUP(I136,KURLAR!B131:B495,KURLAR!D131:D495)","v":10.313499999999999},0]
["2021-09-30",44469,0,131,null,0,null,0,"2021-09-30",{"$f":"LOOKUP(I137,KURLAR!B132:B496,KURLAR!D132:D496)","v":10.313499999999999},0]
["2021-09-30",44469,0,132,null,0,null,0,"2021-09-30",{"$f":"LOOKUP(I138,KURLAR!B133:B497,KURLAR!D133:D497)","v":10.313499999999999},0]
["2021-09-30",44469,0,133,null,0,null,0,"2021-09-30",{"$f":"LOOKUP(I139,KURLAR!B134:B498,KURLAR!D134:D498)","v":10.313499999999999},0]
["2021-09-30",44469,0,134,null,0,null,0,"2021-09-30",{"$f":"LOOKUP(I140,KURLAR!B135:B499,KURLAR!D135:D499)","v":10.313499999999999},0]
["2021-09-30",44469,0,135,null,0,null,0,"2021-09-30",{"$f":"LOOKUP(I141,KURLAR!B136:B500,KURLAR!D136:D500)","v":10.313499999999999},0]
["2021-09-30",44469,0,136,null,0,null,0,"2021-09-30",{"$f":"LOOKUP(I142,KURLAR!B137:B501,KURLAR!D137:D501)","v":10.313499999999999},0]
["2021-09-30",44469,0,137,null,0,null,0,"2021-09-30",{"$f":"LOOKUP(I143,KURLAR!B138:B502,KURLAR!D138:D502)","v":10.313499999999999},0]
["2021-09-30",44469,0,138,null,0,null,0,"2021-09-30",{"$f":"LOOKUP(I144,KURLAR!B139:B503,KURLAR!D139:D503)","v":10.313499999999999},0]
["2021-09-30",44469,0,139,null,0,null,0,"2021-09-30",{"$f":"LOOKUP(I145,KURLAR!B140:B504,KURLAR!D140:D504)","v":10.313499999999999},0]
["2021-09-30",44469,0,140,null,0,null,0,"2021-09-30",{"$f":"LOOKUP(I146,KURLAR!B141:B505,KURLAR!D141:D505)","v":10.313499999999999},0]
["2021-09-30",44469,0,141,null,0,null,0,"2021-09-30",{"$f":"LOOKUP(I147,KURLAR!B142:B506,KURLAR!D142:D506)","v":10.313499999999999},0]
["2021-09-30",44469,0,142,null,0,null,0,"2021-09-30",{"$f":"LOOKUP(I148,KURLAR!B143:B507,KURLAR!D143:D507)","v":10.313499999999999},0]
["2021-09-30",44469,0,143,null,0,null,0,"2021-09-30",{"$f":"LOOKUP(I149,KURLAR!B144:B508,KURLAR!D144:D508)","v":10.313499999999999},0]
["2021-09-30",44469,0,144,null,0,null,0,"2021-09-30",{"$f":"LOOKUP(I150,KURLAR!B145:B509,KURLAR!D145:D509)","v":10.313499999999999},0]
["2021-09-30",44469,0,145,null,0,null,0,"2021-09-30",{"$f":"LOOKUP(I151,KURLAR!B146:B510,KURLAR!D146:D510)","v":10.313499999999999},0]
["2021-09-30",44469,0,146,null,0,null,0,"2021-09-30",{"$f":"LOOKUP(I152,KURLAR!B147:B511,KURLAR!D147:D511)","v":10.313499999999999},0]
["2021-09-30",44469,0,147,null,0,null,0,"2021-09-30",{"$f":"LOOKUP(I153,KURLAR!B148:B512,KURLAR!D148:D512)","v":10.313499999999999},0]
["2021-09-30",44469,0,148,null,0,null,0,"2021-09-30",{"$f":"LOOKUP(I154,KURLAR!B149:B513,KURLAR!D149:D513)","v":10.313499999999999},0]
["2021-09-30",44469,0,149,null,0,null,0,"2021-09-30",{"$f":"LOOKUP(I155,KURLAR!B150:B514,KURLAR!D150:D514)","v":10.313499999999999},0]
["2021-09-30",44469,0,150,null,0,null,0,"2021-09-30",{"$f":"LOOKUP(I156,KURLAR!B151:B515,KURLAR!D151:D515)","v":10.313499999999999},0]
["2021-09-30",44469,0,151,null,0,null,0,"2021-09-30",{"$f":"LOOKUP(I157,KURLAR!B152:B516,KURLAR!D152:D516)","v":10.313499999999999},0]
["2021-09-30",44469,0,152,null,0,null,0,"2021-09-30",{"$f":"LOOKUP(I158,KURLAR!B153:B517,KURLAR!D153:D517)","v":10.313499999999999},0]
["2021-09-30",44469,0,153,null,0,null,0,"2021-09-30",{"$f":"LOOKUP(I159,KURLAR!B154:B518,KURLAR!D154:D518)","v":10.313499999999999},0]
["2021-09-30",44469,0,154,null,0,null,0,"2021-09-30",{"$f":"LOOKUP(I160,KURLAR!B155:B519,KURLAR!D155:D519)","v":10.313499999999999},0]
["2021-09-30",44469,0,155,null,0,null,0,"2021-09-30",{"$f":"LOOKUP(I161,KURLAR!B156:B520,KURLAR!D156:D520)","v":10.313499999999999},0]
["2021-09-30",44469,0,156,null,0,null,0,"2021-09-30",{"$f":"LOOKUP(I162,KURLAR!B157:B521,KURLAR!D157:D521)","v":10.313499999999999},0]
["2021-09-30",44469,0,157,null,0,null,0,"2021-09-30",{"$f":"LOOKUP(I163,KURLAR!B158:B522,KURLAR!D158:D522)","v":10.313499999999999},0]
["2021-09-30",44469,0,158,null,0,null,0,"2021-09-30",{"$f":"LOOKUP(I164,KURLAR!B159:B523,KURLAR!D159:D523)","v":10.313499999999999},0]
["2021-09-30",44469,0,159,null,0,null,0,"2021-09-30",{"$f":"LOOKUP(I165,KURLAR!B160:B524,KURLAR!D160:D524)","v":10.313499999999999},0]
["2021-09-30",44469,0,160,null,0,null,0,"2021-09-30",{"$f":"LOOKUP(I166,KURLAR!B161:B525,KURLAR!D161:D525)","v":10.313499999999999},0]
["2021-09-30",44469,0,161,null,0,null,0,"2021-09-30",{"$f":"LOOKUP(I167,KURLAR!B162:B526,KURLAR!D162:D526)","v":10.313499999999999},0]
["2021-09-30",44469,0,162,null,0,null,0,"2021-09-30",{"$f":"LOOKUP(I168,KURLAR!B163:B527,KURLAR!D163:D527)","v":10.313499999999999},0]
["2021-09-30",44469,0,163,null,0,null,0,"2021-09-30",{"$f":"LOOKUP(I169,KURLAR!B164:B528,KURLAR!D164:D528)","v":10.313499999999999},0]
["2021-09-30",44469,0,164,null,0,null,0,"2021-09-30",{"$f":"LOOKUP(I170,KURLAR!B165:B529,KURLAR!D165:D529)","v":10.313499999999999},0]
["2021-09-30",44469,0,165,null,0,null,0,"2021-09-30",{"$f":"LOOKUP(I171,KURLAR!B166:B530,KURLAR!D166:D530)","v":10.313499999999999},0]
["2021-09-30",44469,0,166,null,0,null,0,"2021-09-30",{"$f":"LOOKUP(I172,KURLAR!B167:B531,KURLAR!D167:D531)","v":10.313499999999999},0]
["2021-09-30",44469,0,167,null,0,null,0,"2021-09-30",{"$f":"LOOKUP(I173,KURLAR!B168:B532,KURLAR!D168:D532)","v":10.313499999999999},0]
["2021-09-30",44469,0,168,null,0,null,0,"2021-09-30",{"$f":"LOOKUP(I174,KURLAR!B169:B533,KURLAR!D169:D533)","v":10.313499999999999},0]
["2021-09-30",44469,0,169,null,0,null,0,"2021-09-30",{"$f":"LOOKUP(I175,KURLAR!B170:B534,KURLAR!D170:D534)","v":10.313499999999999},0]
["2021-09-30",44469,0,170,null,0,null,0,"2021-09-30",{"$f":"LOOKUP(I176,KURLAR!B171:B535,KURLAR!D171:D535)","v":10.313499999999999},0]
["2021-09-30",44469,0,171,null,0,null,0,"2021-09-30",{"$f":"LOOKUP(I177,KURLAR!B172:B536,KURLAR!D172:D536)","v":10.313499999999999},0]
["2021-09-30",44469,0,172,null,0,null,0,"2021-09-30",{"$f":"LOOKUP(I178,KURLAR!B173:B537,KURLAR!D173:D537)","v":10.313499999999999},0]
["2021-09-30",44469,0,173,null,0,null,0,"2021-09-30",{"$f":"LOOKUP(I179,KURLAR!B174:B538,KURLAR!D174:D538)","v":10.313499999999999},0]
["2021-09-30",44469,0,174,null,0,null,0,"2021-09-30",{"$f":"LOOKUP(I180,KURLAR!B175:B539,KURLAR!D175:D539)","v":10.313499999999999},0]
["2021-09-30",44469,0,175,null,0,null,0,"2021-09-30",{"$f":"LOOKUP(I181,KURLAR!B176:B540,KURLAR!D176:D540)","v":10.313499999999999},0]
["2021-09-30",44469,0,176,null,0,null,0,"2021-09-30",{"$f":"LOOKUP(I182,KURLAR!B177:B541,KURLAR!D177:D541)","v":10.313499999999999},0]
["2021-09-30",44469,0,177,null,0,null,0,"2021-09-30",{"$f":"LOOKUP(I183,KURLAR!B178:B542,KURLAR!D178:D542)","v":10.313499999999999},0]
["2021-09-30",44469,0,178,null,0,null,0,"2021-09-30",{"$f":"LOOKUP(I184,KURLAR!B179:B543,KURLAR!D179:D543)","v":10.313499999999999},0]
["2021-09-30",44469,0,179,null,0,null,0,"2021-09-30",{"$f":"LOOKUP(I185,KURLAR!B180:B544,KURLAR!D180:D544)","v":10.313499999999999},0]
["2021-09-30",44469,0,180,null,0,null,0,"2021-09-30",{"$f":"LOOKUP(I186,KURLAR!B181:B545,KURLAR!D181:D545)","v":10.313499999999999},0]
["2021-09-30",44469,0,181,null,0,null,0,"2021-09-30",{"$f":"LOOKUP(I187,KURLAR!B182:B546,KURLAR!D182:D546)","v":10.313499999999999},0]
["2021-09-30",44469,0,182,null,0,null,0,"2021-09-30",{"$f":"LOOKUP(I188,KURLAR!B183:B547,KURLAR!D183:D547)","v":10.313499999999999},0]
["2021-09-30",44469,0,183,null,0,null,0,"2021-09-30",{"$f":"LOOKUP(I189,KURLAR!B184:B548,KURLAR!D184:D548)","v":10.313499999999999},0]
["2021-09-30",44469,0,184,null,0,null,0,"2021-09-30",{"$f":"LOOKUP(I190,KURLAR!B185:B549,KURLAR!D185:D549)","v":10.313499999999999},0]
["2021-09-30",{"$f":"A191","v":44469},{"$f":"E191","v":0},185,null,{"$f":"F190-G190","v":0},null,{"$f":"H190-G191","v":0},{"$f":"IF(C191>=B191,E191,(A191))","v":"2021-09-30"},{"$f":"LOOKUP(I191,KURLAR!B186:B550,KURLAR!D186:D550)","v":10.313499999999999},{"$f":"G191*($G$3-J191)","v":0}]
["2021-09-30",44469,0,186,null,0,null,0,"2021-09-30",{"$f":"LOOKUP(I192,KURLAR!B187:B551,KURLAR!D187:D551)","v":10.313499999999999},0]
["2021-09-30",44469,0,187,null,0,null,0,"2021-09-30",{"$f":"LOOKUP(I193,KURLAR!B188:B552,KURLAR!D188:D552)","v":10.313499999999999},0]
["2021-09-30",44469,0,188,null,0,null,0,"2021-09-30",{"$f":"LOOKUP(I194,KURLAR!B189:B553,KURLAR!D189:D553)","v":10.313499999999999},0]
["2021-09-30",44469,0,189,null,0,null,0,"2021-09-30",{"$f":"LOOKUP(I195,KURLAR!B190:B554,KURLAR!D190:D554)","v":10.313499999999999},0]
["2021-09-30",44469,0,190,null,0,null,0,"2021-09-30",{"$f":"LOOKUP(I196,KURLAR!B191:B555,KURLAR!D191:D555)","v":10.313499999999999},0]
["2021-09-30",44469,0,191,null,0,null,0,"2021-09-30",{"$f":"LOOKUP(I197,KURLAR!B192:B556,KURLAR!D192:D556)","v":10.313499999999999},0]
["2021-09-30",44469,0,192,null,0,null,0,"2021-09-30",{"$f":"LOOKUP(I198,KURLAR!B193:B557,KURLAR!D193:D557)","v":10.313499999999999},0]
["2021-09-30",44469,0,193,null,0,null,0,"2021-09-30",{"$f":"LOOKUP(I199,KURLAR!B194:B558,KURLAR!D194:D558)","v":10.313499999999999},0]
["2021-09-30",44469,0,194,null,0,null,0,"2021-09-30",{"$f":"LOOKUP(I200,KURLAR!B195:B559,KURLAR!D195:D559)","v":10.313499999999999},0]
["2021-09-30",44469,0,195,null,0,null,0,"2021-09-30",{"$f":"LOOKUP(I201,KURLAR!B196:B560,KURLAR!D196:D560)","v":10.313499999999999},0]
["2021-09-30",44469,0,196,null,0,null,0,"2021-09-30",{"$f":"LOOKUP(I202,KURLAR!B197:B561,KURLAR!D197:D561)","v":10.313499999999999},0]
["2021-09-30",44469,0,197,null,0,null,0,"2021-09-30",{"$f":"LOOKUP(I203,KURLAR!B198:B562,KURLAR!D198:D562)","v":10.313499999999999},0]
["2021-09-30",44469,0,198,null,0,null,0,"2021-09-30",{"$f":"LOOKUP(I204,KURLAR!B199:B563,KURLAR!D199:D563)","v":10.313499999999999},0]
["2021-09-30",44469,0,199,null,0,null,0,"2021-09-30",{"$f":"LOOKUP(I205,KURLAR!B200:B564,KURLAR!D200:D564)","v":10.313499999999999},0]
["2021-09-30",44469,0,200,null,0,null,0,"2021-09-30",{"$f":"LOOKUP(I206,KURLAR!B201:B565,KURLAR!D201:D565)","v":10.313499999999999},0]
[null,null,null,"GENEL TOPLAM",null,null,{"$f":"SUM(G7:G206)","v":0},null,null,null,{"$f":"SUM(K7:K206)","v":0}]

{"sheet":"İNGİLİZ STERLİNİ","index":4,"n_rows":207,"n_cols":11,"rows_kept":207,"cut":false,"hidden":false,"merged":[[4,3,4,7],[4,8,4,10],[206,3,206,5]]}
[]
[null,null,null,null,null,null,"Değerlemede Dikkate Alınacak Kur",null,"Kur Korumalı Mevduat Hesabına Aktarılacak Tutar","İstisnadan Yararlanma Oranı","İstisnadan Yararlanabilecek Kazanç Tutarı"]
[null,null,null,null,"DÖVİZ TEVDİAT HESABINDA \n31/12/2021 TARİHİ İTİBARİYLE YER ALAN DÖNEM SONU İNGİLİZ STERLİNİ MİKTARI",null,{"$f":"KURLAR!E366","v":17.452999999999999},null,null,{"$f":"I3/F3","v":{"$error":"#DIV/0!"}},{"$f":"K207*J3","v":{"$error":"#DIV/0!"}}]
[]
[null,null,null,"EN SON ALIM YAPILAN DÖVİZLERİN ALIM TARİH VE MİKTAR DURUMU",null,null,null,null,"DEĞERLEME İŞLEMLERİ"]
[null,"30/09/2021 Tarihinin Sayı Değeri","Alım Tarihinin Sayı Değeri","SIRA NO","Alım Tarihi","Yazılabilecek Max Alım Miktarı","Alım Miktarı","Kalan Bir Önceki Max  Alım Miktarı","Değerlemede Dikkate Alınacak Tarih","Değerlemede Dikkate Alınacak Kur","Hesaplanan Kur Farkı Kazancı"]
["2021-09-30",{"$f":"A7","v":44469},{"$f":"E7","v":0},1,null,{"$f":"F3","v":0},null,{"$f":"F3-G7","v":0},{"$f":"IF(C7>=B7,E7,(A7))","v":"2021-09-30"},{"$f":"LOOKUP(I7,KURLAR!B2:B366,KURLAR!E2:E366)","v":11.9292},{"$f":"G7*($G$3-J7)","v":0}]
["2021-09-30",{"$f":"A8","v":44469},0,2,null,{"$f":"F7-G7","v":0},null,{"$f":"H7-G8","v":0},{"$f":"IF(C8>=B8,E8,(A8))","v":"2021-09-30"},{"$f":"LOOKUP(I8,KURLAR!B3:B367,KURLAR!E3:E367)","v":11.9292},{"$f":"G8*($G$3-J8)","v":0}]
["2021-09-30",44469,0,3,null,{"$f":"F8-G8","v":0},null,{"$f":"H8-G9","v":0},"2021-09-30",{"$f":"LOOKUP(I9,KURLAR!B4:B368,KURLAR!E4:E368)","v":11.9292},0]
["2021-09-30",44469,0,4,null,0,null,0,"2021-09-30",{"$f":"LOOKUP(I10,KURLAR!B5:B369,KURLAR!E5:E369)","v":11.9292},0]
["2021-09-30",44469,0,5,null,0,null,0,"2021-09-30",{"$f":"LOOKUP(I11,KURLAR!B6:B370,KURLAR!E6:E370)","v":11.9292},0]
["2021-09-30",44469,0,6,null,0,null,0,"2021-09-30",{"$f":"LOOKUP(I12,KURLAR!B7:B371,KURLAR!E7:E371)","v":11.9292},0]
["2021-09-30",44469,0,7,null,0,null,0,"2021-09-30",{"$f":"LOOKUP(I13,KURLAR!B8:B372,KURLAR!E8:E372)","v":11.9292},0]
["2021-09-30",44469,0,8,null,0,null,0,"2021-09-30",{"$f":"LOOKUP(I14,KURLAR!B9:B373,KURLAR!E9:E373)","v":11.9292},0]
["2021-09-30",44469,0,9,null,0,null,0,"2021-09-30",{"$f":"LOOKUP(I15,KURLAR!B10:B374,KURLAR!E10:E374)","v":11.9292},0]
["2021-09-30",44469,0,10,null,0,null,0,"2021-09-30",{"$f":"LOOKUP(I16,KURLAR!B11:B375,KURLAR!E11:E375)","v":11.9292},0]
["2021-09-30",44469,0,11,null,0,null,0,"2021-09-30",{"$f":"LOOKUP(I17,KURLAR!B12:B376,KURLAR!E12:E376)","v":11.9292},0]
["2021-09-30",44469,0,12,null,0,null,0,"2021-09-30",{"$f":"LOOKUP(I18,KURLAR!B13:B377,KURLAR!E13:E377)","v":11.9292},0]
["2021-09-30",44469,0,13,null,0,null,0,"2021-09-30",{"$f":"LOOKUP(I19,KURLAR!B14:B378,KURLAR!E14:E378)","v":11.9292},0]
["2021-09-30",44469,0,14,null,0,null,0,"2021-09-30",{"$f":"LOOKUP(I20,KURLAR!B15:B379,KURLAR!E15:E379)","v":11.9292},0]
["2021-09-30",44469,0,15,null,0,null,0,"2021-09-30",{"$f":"LOOKUP(I21,KURLAR!B16:B380,KURLAR!E16:E380)","v":11.9292},0]
["2021-09-30",44469,0,16,null,0,null,0,"2021-09-30",{"$f":"LOOKUP(I22,KURLAR!B17:B381,KURLAR!E17:E381)","v":11.9292},0]
["2021-09-30",44469,0,17,null,0,null,0,"2021-09-30",{"$f":"LOOKUP(I23,KURLAR!B18:B382,KURLAR!E18:E382)","v":11.9292},0]
["2021-09-30",44469,0,18,null,0,null,0,"2021-09-30",{"$f":"LOOKUP(I24,KURLAR!B19:B383,KURLAR!E19:E383)","v":11.9292},0]
["2021-09-30",44469,0,19,null,0,null,0,"2021-09-30",{"$f":"LOOKUP(I25,KURLAR!B20:B384,KURLAR!E20:E384)","v":11.9292},0]
["2021-09-30",44469,0,20,null,0,null,0,"2021-09-30",{"$f":"LOOKUP(I26,KURLAR!B21:B385,KURLAR!E21:E385)","v":11.9292},0]
["2021-09-30",44469,0,21,null,0,null,0,"2021-09-30",{"$f":"LOOKUP(I27,KURLAR!B22:B386,KURLAR!E22:E386)","v":11.9292},0]
["2021-09-30",44469,0,22,null,0,null,0,"2021-09-30",{"$f":"LOOKUP(I28,KURLAR!B23:B387,KURLAR!E23:E387)","v":11.9292},0]
["2021-09-30",44469,0,23,null,0,null,0,"2021-09-30",{"$f":"LOOKUP(I29,KURLAR!B24:B388,KURLAR!E24:E388)","v":11.9292},0]
["2021-09-30",44469,0,24,null,0,null,0,"2021-09-30",{"$f":"LOOKUP(I30,KURLAR!B25:B389,KURLAR!E25:E389)","v":11.9292},0]
["2021-09-30",44469,0,25,null,0,null,0,"2021-09-30",{"$f":"LOOKUP(I31,KURLAR!B26:B390,KURLAR!E26:E390)","v":11.9292},0]
["2021-09-30",44469,0,26,null,0,null,0,"2021-09-30",{"$f":"LOOKUP(I32,KURLAR!B27:B391,KURLAR!E27:E391)","v":11.9292},0]
["2021-09-30",44469,0,27,null,0,null,0,"2021-09-30",{"$f":"LOOKUP(I33,KURLAR!B28:B392,KURLAR!E28:E392)","v":11.9292},0]
["2021-09-30",44469,0,28,null,0,null,0,"2021-09-30",{"$f":"LOOKUP(I34,KURLAR!B29:B393,KURLAR!E29:E393)","v":11.9292},0]
["2021-09-30",44469,0,29,null,0,null,0,"2021-09-30",{"$f":"LOOKUP(I35,KURLAR!B30:B394,KURLAR!E30:E394)","v":11.9292},0]
["2021-09-30",44469,0,30,null,0,null,0,"2021-09-30",{"$f":"LOOKUP(I36,KURLAR!B31:B395,KURLAR!E31:E395)","v":11.9292},0]
["2021-09-30",44469,0,31,null,0,null,0,"2021-09-30",{"$f":"LOOKUP(I37,KURLAR!B32:B396,KURLAR!E32:E396)","v":11.9292},0]
["2021-09-30",44469,0,32,null,0,null,0,"2021-09-30",{"$f":"LOOKUP(I38,KURLAR!B33:B397,KURLAR!E33:E397)","v":11.9292},0]
["2021-09-30",44469,0,33,null,0,null,0,"2021-09-30",{"$f":"LOOKUP(I39,KURLAR!B34:B398,KURLAR!E34:E398)","v":11.9292},0]
["2021-09-30",44469,0,34,null,0,null,0,"2021-09-30",{"$f":"LOOKUP(I40,KURLAR!B35:B399,KURLAR!E35:E399)","v":11.9292},0]
["2021-09-30",44469,0,35,null,0,null,0,"2021-09-30",{"$f":"LOOKUP(I41,KURLAR!B36:B400,KURLAR!E36:E400)","v":11.9292},0]
["2021-09-30",44469,0,36,null,0,null,0,"2021-09-30",{"$f":"LOOKUP(I42,KURLAR!B37:B401,KURLAR!E37:E401)","v":11.9292},0]
["2021-09-30",44469,0,37,null,0,null,0,"2021-09-30",{"$f":"LOOKUP(I43,KURLAR!B38:B402,KURLAR!E38:E402)","v":11.9292},0]
["2021-09-30",44469,0,38,null,0,null,0,"2021-09-30",{"$f":"LOOKUP(I44,KURLAR!B39:B403,KURLAR!E39:E403)","v":11.9292},0]
["2021-09-30",44469,0,39,null,0,null,0,"2021-09-30",{"$f":"LOOKUP(I45,KURLAR!B40:B404,KURLAR!E40:E404)","v":11.9292},0]
["2021-09-30",44469,0,40,null,0,null,0,"2021-09-30",{"$f":"LOOKUP(I46,KURLAR!B41:B405,KURLAR!E41:E405)","v":11.9292},0]
["2021-09-30",44469,0,41,null,0,null,0,"2021-09-30",{"$f":"LOOKUP(I47,KURLAR!B42:B406,KURLAR!E42:E406)","v":11.9292},0]
["2021-09-30",44469,0,42,null,0,null,0,"2021-09-30",{"$f":"LOOKUP(I48,KURLAR!B43:B407,KURLAR!E43:E407)","v":11.9292},0]
["2021-09-30",44469,0,43,null,0,null,0,"2021-09-30",{"$f":"LOOKUP(I49,KURLAR!B44:B408,KURLAR!E44:E408)","v":11.9292},0]
["2021-09-30",44469,0,44,null,0,null,0,"2021-09-30",{"$f":"LOOKUP(I50,KURLAR!B45:B409,KURLAR!E45:E409)","v":11.9292},0]
["2021-09-30",44469,0,45,null,0,null,0,"2021-09-30",{"$f":"LOOKUP(I51,KURLAR!B46:B410,KURLAR!E46:E410)","v":11.9292},0]
["2021-09-30",44469,0,46,null,0,null,0,"2021-09-30",{"$f":"LOOKUP(I52,KURLAR!B47:B411,KURLAR!E47:E411)","v":11.9292},0]
["2021-09-30",44469,0,47,null,0,null,0,"2021-09-30",{"$f":"LOOKUP(I53,KURLAR!B48:B412,KURLAR!E48:E412)","v":11.9292},0]
["2021-09-30",44469,0,48,null,0,null,0,"2021-09-30",{"$f":"LOOKUP(I54,KURLAR!B49:B413,KURLAR!E49:E413)","v":11.9292},0]
["2021-09-30",44469,0,49,null,0,null,0,"2021-09-30",{"$f":"LOOKUP(I55,KURLAR!B50:B414,KURLAR!E50:E414)","v":11.9292},0]
["2021-09-30",44469,0,50,null,0,null,0,"2021-09-30",{"$f":"LOOKUP(I56,KURLAR!B51:B415,KURLAR!E51:E415)","v":11.9292},0]
["2021-09-30",44469,0,51,null,0,null,0,"2021-09-30",{"$f":"LOOKUP(I57,KURLAR!B52:B416,KURLAR!E52:E416)","v":11.9292},0]
["2021-09-30",44469,0,52,null,0,null,0,"2021-09-30",{"$f":"LOOKUP(I58,KURLAR!B53:B417,KURLAR!E53:E417)","v":11.9292},0]
["2021-09-30",44469,0,53,null,0,null,0,"2021-09-30",{"$f":"LOOKUP(I59,KURLAR!B54:B418,KURLAR!E54:E418)","v":11.9292},0]
["2021-09-30",44469,0,54,null,0,null,0,"2021-09-30",{"$f":"LOOKUP(I60,KURLAR!B55:B419,KURLAR!E55:E419)","v":11.9292},0]
["2021-09-30",44469,0,55,null,0,null,0,"2021-09-30",{"$f":"LOOKUP(I61,KURLAR!B56:B420,KURLAR!E56:E420)","v":11.9292},0]
["2021-09-30",44469,0,56,null,0,null,0,"2021-09-30",{"$f":"LOOKUP(I62,KURLAR!B57:B421,KURLAR!E57:E421)","v":11.9292},0]
["2021-09-30",44469,0,57,null,0,null,0,"2021-09-30",{"$f":"LOOKUP(I63,KURLAR!B58:B422,KURLAR!E58:E422)","v":11.9292},0]
["2021-09-30",44469,0,58,null,0,null,0,"2021-09-30",{"$f":"LOOKUP(I64,KURLAR!B59:B423,KURLAR!E59:E423)","v":11.9292},0]
["2021-09-30",44469,0,59,null,0,null,0,"2021-09-30",{"$f":"LOOKUP(I65,KURLAR!B60:B424,KURLAR!E60:E424)","v":11.9292},0]
["2021-09-30",44469,0,60,null,0,null,0,"2021-09-30",{"$f":"LOOKUP(I66,KURLAR!B61:B425,KURLAR!E61:E425)","v":11.9292},0]
["2021-09-30",44469,0,61,null,0,null,0,"2021-09-30",{"$f":"LOOKUP(I67,KURLAR!B62:B426,KURLAR!E62:E426)","v":11.9292},0]
["2021-09-30",44469,0,62,null,0,null,0,"2021-09-30",{"$f":"LOOKUP(I68,KURLAR!B63:B427,KURLAR!E63:E427)","v":11.9292},0]
["2021-09-30",44469,0,63,null,0,null,0,"2021-09-30",{"$f":"LOOKUP(I69,KURLAR!B64:B428,KURLAR!E64:E428)","v":11.9292},0]
["2021-09-30",44469,0,64,null,0,null,0,"2021-09-30",{"$f":"LOOKUP(I70,KURLAR!B65:B429,KURLAR!E65:E429)","v":11.9292},0]
["2021-09-30",44469,{"$f":"E71","v":0},65,null,0,null,0,"2021-09-30",{"$f":"LOOKUP(I71,KURLAR!B66:B430,KURLAR!E66:E430)","v":11.9292},0]
["2021-09-30",{"$f":"A72","v":44469},0,66,null,0,null,0,{"$f":"IF(C72>=B72,E72,(A72))","v":"2021-09-30"},{"$f":"LOOKUP(I72,KURLAR!B67:B431,KURLAR!E67:E431)","v":11.9292},{"$f":"G72*($G$3-J72)","v":0}]
["2021-09-30",44469,0,67,null,{"$f":"F72-G72","v":0},null,{"$f":"H72-G73","v":0},"2021-09-30",{"$f":"LOOKUP(I73,KURLAR!B68:B432,KURLAR!E68:E432)","v":11.9292},0]
["2021-09-30",44469,0,68,null,0,null,0,"2021-09-30",{"$f":"LOOKUP(I74,KURLAR!B69:B433,KURLAR!E69:E433)","v":11.9292},0]
["2021-09-30",44469,0,69,null,0,null,0,"2021-09-30",{"$f":"LOOKUP(I75,KURLAR!B70:B434,KURLAR!E70:E434)","v":11.9292},0]
["2021-09-30",44469,0,70,null,0,null,0,"2021-09-30",{"$f":"LOOKUP(I76,KURLAR!B71:B435,KURLAR!E71:E435)","v":11.9292},0]
["2021-09-30",44469,0,71,null,0,null,0,"2021-09-30",{"$f":"LOOKUP(I77,KURLAR!B72:B436,KURLAR!E72:E436)","v":11.9292},0]
["2021-09-30",44469,0,72,null,0,null,0,"2021-09-30",{"$f":"LOOKUP(I78,KURLAR!B73:B437,KURLAR!E73:E437)","v":11.9292},0]
["2021-09-30",44469,0,73,null,0,null,0,"2021-09-30",{"$f":"LOOKUP(I79,KURLAR!B74:B438,KURLAR!E74:E438)","v":11.9292},0]
["2021-09-30",44469,0,74,null,0,null,0,"2021-09-30",{"$f":"LOOKUP(I80,KURLAR!B75:B439,KURLAR!E75:E439)","v":11.9292},0]
["2021-09-30",44469,0,75,null,0,null,0,"2021-09-30",{"$f":"LOOKUP(I81,KURLAR!B76:B440,KURLAR!E76:E440)","v":11.9292},0]
["2021-09-30",44469,0,76,null,0,null,0,"2021-09-30",{"$f":"LOOKUP(I82,KURLAR!B77:B441,KURLAR!E77:E441)","v":11.9292},0]
["2021-09-30",44469,0,77,null,0,null,0,"2021-09-30",{"$f":"LOOKUP(I83,KURLAR!B78:B442,KURLAR!E78:E442)","v":11.9292},0]
["2021-09-30",44469,0,78,null,0,null,0,"2021-09-30",{"$f":"LOOKUP(I84,KURLAR!B79:B443,KURLAR!E79:E443)","v":11.9292},0]
["2021-09-30",44469,0,79,null,0,null,0,"2021-09-30",{"$f":"LOOKUP(I85,KURLAR!B80:B444,KURLAR!E80:E444)","v":11.9292},0]
["2021-09-30",44469,0,80,null,0,null,0,"2021-09-30",{"$f":"LOOKUP(I86,KURLAR!B81:B445,KURLAR!E81:E445)","v":11.9292},0]
["2021-09-30",44469,0,81,null,0,null,0,"2021-09-30",{"$f":"LOOKUP(I87,KURLAR!B82:B446,KURLAR!E82:E446)","v":11.9292},0]
["2021-09-30",44469,0,82,null,0,null,0,"2021-09-30",{"$f":"LOOKUP(I88,KURLAR!B83:B447,KURLAR!E83:E447)","v":11.9292},0]
["2021-09-30",44469,0,83,null,0,null,0,"2021-09-30",{"$f":"LOOKUP(I89,KURLAR!B84:B448,KURLAR!E84:E448)","v":11.9292},0]
["2021-09-30",44469,0,84,null,0,null,0,"2021-09-30",{"$f":"LOOKUP(I90,KURLAR!B85:B449,KURLAR!E85:E449)","v":11.9292},0]
["2021-09-30",44469,0,85,null,0,null,0,"2021-09-30",{"$f":"LOOKUP(I91,KURLAR!B86:B450,KURLAR!E86:E450)","v":11.9292},0]
["2021-09-30",44469,0,86,null,0,null,0,"2021-09-30",{"$f":"LOOKUP(I92,KURLAR!B87:B451,KURLAR!E87:E451)","v":11.9292},0]
["2021-09-30",44469,0,87,null,0,null,0,"2021-09-30",{"$f":"LOOKUP(I93,KURLAR!B88:B452,KURLAR!E88:E452)","v":11.9292},0]
["2021-09-30",44469,0,88,null,0,null,0,"2021-09-30",{"$f":"LOOKUP(I94,KURLAR!B89:B453,KURLAR!E89:E453)","v":11.9292},0]
["2021-09-30",44469,0,89,null,0,null,0,"2021-09-30",{"$f":"LOOKUP(I95,KURLAR!B90:B454,KURLAR!E90:E454)","v":11.9292},0]
["2021-09-30",44469,0,90,null,0,null,0,"2021-09-30",{"$f":"LOOKUP(I96,KURLAR!B91:B455,KURLAR!E91:E455)","v":11.9292},0]
["2021-09-30",44469,0,91,null,0,null,0,"2021-09-30",{"$f":"LOOKUP(I97,KURLAR!B92:B456,KURLAR!E92:E456)","v":11.9292},0]
["2021-09-30",44469,0,92,null,0,null,0,"2021-09-30",{"$f":"LOOKUP(I98,KURLAR!B93:B457,KURLAR!E93:E457)","v":11.9292},0]
["2021-09-30",44469,0,93,null,0,null,0,"2021-09-30",{"$f":"LOOKUP(I99,KURLAR!B94:B458,KURLAR!E94:E458)","v":11.9292},0]
["2021-09-30",44469,0,94,null,0,null,0,"2021-09-30",{"$f":"LOOKUP(I100,KURLAR!B95:B459,KURLAR!E95:E459)","v":11.9292},0]
["2021-09-30",44469,0,95,null,0,null,0,"2021-09-30",{"$f":"LOOKUP(I101,KURLAR!B96:B460,KURLAR!E96:E460)","v":11.9292},0]
["2021-09-30",44469,0,96,null,0,null,0,"2021-09-30",{"$f":"LOOKUP(I102,KURLAR!B97:B461,KURLAR!E97:E461)","v":11.9292},0]
["2021-09-30",44469,0,97,null,0,null,0,"2021-09-30",{"$f":"LOOKUP(I103,KURLAR!B98:B462,KURLAR!E98:E462)","v":11.9292},0]
["2021-09-30",44469,0,98,null,0,null,0,"2021-09-30",{"$f":"LOOKUP(I104,KURLAR!B99:B463,KURLAR!E99:E463)","v":11.9292},0]
["2021-09-30",44469,0,99,null,0,null,0,"2021-09-30",{"$f":"LOOKUP(I105,KURLAR!B100:B464,KURLAR!E100:E464)","v":11.9292},0]
["2021-09-30",44469,0,100,null,0,null,0,"2021-09-30",{"$f":"LOOKUP(I106,KURLAR!B101:B465,KURLAR!E101:E465)","v":11.9292},0]
["2021-09-30",44469,0,101,null,0,null,0,"2021-09-30",{"$f":"LOOKUP(I107,KURLAR!B102:B466,KURLAR!E102:E466)","v":11.9292},0]
["2021-09-30",44469,0,102,null,0,null,0,"2021-09-30",{"$f":"LOOKUP(I108,KURLAR!B103:B467,KURLAR!E103:E467)","v":11.9292},0]
["2021-09-30",44469,0,103,null,0,null,0,"2021-09-30",{"$f":"LOOKUP(I109,KURLAR!B104:B468,KURLAR!E104:E468)","v":11.9292},0]
["2021-09-30",44469,0,104,null,0,null,0,"2021-09-30",{"$f":"LOOKUP(I110,KURLAR!B105:B469,KURLAR!E105:E469)","v":11.9292},0]
["2021-09-30",44469,0,105,null,0,null,0,"2021-09-30",{"$f":"LOOKUP(I111,KURLAR!B106:B470,KURLAR!E106:E470)","v":11.9292},0]
["2021-09-30",44469,0,106,null,0,null,0,"2021-09-30",{"$f":"LOOKUP(I112,KURLAR!B107:B471,KURLAR!E107:E471)","v":11.9292},0]
["2021-09-30",44469,0,107,null,0,null,0,"2021-09-30",{"$f":"LOOKUP(I113,KURLAR!B108:B472,KURLAR!E108:E472)","v":11.9292},0]
["2021-09-30",44469,0,108,null,0,null,0,"2021-09-30",{"$f":"LOOKUP(I114,KURLAR!B109:B473,KURLAR!E109:E473)","v":11.9292},0]
["2021-09-30",44469,0,109,null,0,null,0,"2021-09-30",{"$f":"LOOKUP(I115,KURLAR!B110:B474,KURLAR!E110:E474)","v":11.9292},0]
["2021-09-30",44469,0,110,null,0,null,0,"2021-09-30",{"$f":"LOOKUP(I116,KURLAR!B111:B475,KURLAR!E111:E475)","v":11.9292},0]
["2021-09-30",44469,0,111,null,0,null,0,"2021-09-30",{"$f":"LOOKUP(I117,KURLAR!B112:B476,KURLAR!E112:E476)","v":11.9292},0]
["2021-09-30",44469,0,112,null,0,null,0,"2021-09-30",{"$f":"LOOKUP(I118,KURLAR!B113:B477,KURLAR!E113:E477)","v":11.9292},0]
["2021-09-30",44469,0,113,null,0,null,0,"2021-09-30",{"$f":"LOOKUP(I119,KURLAR!B114:B478,KURLAR!E114:E478)","v":11.9292},0]
["2021-09-30",44469,0,114,null,0,null,0,"2021-09-30",{"$f":"LOOKUP(I120,KURLAR!B115:B479,KURLAR!E115:E479)","v":11.9292},0]
["2021-09-30",44469,0,115,null,0,null,0,"2021-09-30",{"$f":"LOOKUP(I121,KURLAR!B116:B480,KURLAR!E116:E480)","v":11.9292},0]
["2021-09-30",44469,0,116,null,0,null,0,"2021-09-30",{"$f":"LOOKUP(I122,KURLAR!B117:B481,KURLAR!E117:E481)","v":11.9292},0]
["2021-09-30",44469,0,117,null,0,null,0,"2021-09-30",{"$f":"LOOKUP(I123,KURLAR!B118:B482,KURLAR!E118:E482)","v":11.9292},0]
["2021-09-30",44469,0,118,null,0,null,0,"2021-09-30",{"$f":"LOOKUP(I124,KURLAR!B119:B483,KURLAR!E119:E483)","v":11.9292},0]
["2021-09-30",44469,0,119,null,0,null,0,"2021-09-30",{"$f":"LOOKUP(I125,KURLAR!B120:B484,KURLAR!E120:E484)","v":11.9292},0]
["2021-09-30",44469,0,120,null,0,null,0,"2021-09-30",{"$f":"LOOKUP(I126,KURLAR!B121:B485,KURLAR!E121:E485)","v":11.9292},0]
["2021-09-30",{"$f":"A127","v":44469},{"$f":"E127","v":0},121,null,{"$f":"F126-G126","v":0},null,{"$f":"H126-G127","v":0},{"$f":"IF(C127>=B127,E127,(A127))","v":"2021-09-30"},{"$f":"LOOKUP(I127,KURLAR!B122:B486,KURLAR!E122:E486)","v":11.9292},{"$f":"G127*($G$3-J127)","v":0}]
["2021-09-30",44469,0,122,null,0,null,0,"2021-09-30",{"$f":"LOOKUP(I128,KURLAR!B123:B487,KURLAR!E123:E487)","v":11.9292},0]
["2021-09-30",44469,0,123,null,0,null,0,"2021-09-30",{"$f":"LOOKUP(I129,KURLAR!B124:B488,KURLAR!E124:E488)","v":11.9292},0]
["2021-09-30",44469,0,124,null,0,null,0,"2021-09-30",{"$f":"LOOKUP(I130,KURLAR!B125:B489,KURLAR!E125:E489)","v":11.9292},0]
["2021-09-30",44469,0,125,null,0,null,0,"2021-09-30",{"$f":"LOOKUP(I131,KURLAR!B126:B490,KURLAR!E126:E490)","v":11.9292},0]
["2021-09-30",44469,0,126,null,0,null,0,"2021-09-30",{"$f":"LOOKUP(I132,KURLAR!B127:B491,KURLAR!E127:E491)","v":11.9292},0]
["2021-09-30",44469,0,127,null,0,null,0,"2021-09-30",{"$f":"LOOKUP(I133,KURLAR!B128:B492,KURLAR!E128:E492)","v":11.9292},0]
["2021-09-30",44469,0,128,null,0,null,0,"2021-09-30",{"$f":"LOOKUP(I134,KURLAR!B129:B493,KURLAR!E129:E493)","v":11.9292},0]
["2021-09-30",44469,0,129,null,0,null,0,"2021-09-30",{"$f":"LOOKUP(I135,KURLAR!B130:B494,KURLAR!E130:E494)","v":11.9292},0]
["2021-09-30",44469,0,130,null,0,null,0,"2021-09-30",{"$f":"LOOKUP(I136,KURLAR!B131:B495,KURLAR!E131:E495)","v":11.9292},0]
["2021-09-30",44469,0,131,null,0,null,0,"2021-09-30",{"$f":"LOOKUP(I137,KURLAR!B132:B496,KURLAR!E132:E496)","v":11.9292},0]
["2021-09-30",44469,0,132,null,0,null,0,"2021-09-30",{"$f":"LOOKUP(I138,KURLAR!B133:B497,KURLAR!E133:E497)","v":11.9292},0]
["2021-09-30",44469,0,133,null,0,null,0,"2021-09-30",{"$f":"LOOKUP(I139,KURLAR!B134:B498,KURLAR!E134:E498)","v":11.9292},0]
["2021-09-30",44469,0,134,null,0,null,0,"2021-09-30",{"$f":"LOOKUP(I140,KURLAR!B135:B499,KURLAR!E135:E499)","v":11.9292},0]
["2021-09-30",44469,0,135,null,0,null,0,"2021-09-30",{"$f":"LOOKUP(I141,KURLAR!B136:B500,KURLAR!E136:E500)","v":11.9292},0]
["2021-09-30",44469,0,136,null,0,null,0,"2021-09-30",{"$f":"LOOKUP(I142,KURLAR!B137:B501,KURLAR!E137:E501)","v":11.9292},0]
["2021-09-30",44469,0,137,null,0,null,0,"2021-09-30",{"$f":"LOOKUP(I143,KURLAR!B138:B502,KURLAR!E138:E502)","v":11.9292},0]
["2021-09-30",44469,0,138,null,0,null,0,"2021-09-30",{"$f":"LOOKUP(I144,KURLAR!B139:B503,KURLAR!E139:E503)","v":11.9292},0]
["2021-09-30",44469,0,139,null,0,null,0,"2021-09-30",{"$f":"LOOKUP(I145,KURLAR!B140:B504,KURLAR!E140:E504)","v":11.9292},0]
["2021-09-30",44469,0,140,null,0,null,0,"2021-09-30",{"$f":"LOOKUP(I146,KURLAR!B141:B505,KURLAR!E141:E505)","v":11.9292},0]
["2021-09-30",44469,0,141,null,0,null,0,"2021-09-30",{"$f":"LOOKUP(I147,KURLAR!B142:B506,KURLAR!E142:E506)","v":11.9292},0]
["2021-09-30",44469,0,142,null,0,null,0,"2021-09-30",{"$f":"LOOKUP(I148,KURLAR!B143:B507,KURLAR!E143:E507)","v":11.9292},0]
["2021-09-30",44469,0,143,null,0,null,0,"2021-09-30",{"$f":"LOOKUP(I149,KURLAR!B144:B508,KURLAR!E144:E508)","v":11.9292},0]
["2021-09-30",44469,0,144,null,0,null,0,"2021-09-30",{"$f":"LOOKUP(I150,KURLAR!B145:B509,KURLAR!E145:E509)","v":11.9292},0]
["2021-09-30",44469,0,145,null,0,null,0,"2021-09-30",{"$f":"LOOKUP(I151,KURLAR!B146:B510,KURLAR!E146:E510)","v":11.9292},0]
["2021-09-30",44469,0,146,null,0,null,0,"2021-09-30",{"$f":"LOOKUP(I152,KURLAR!B147:B511,KURLAR!E147:E511)","v":11.9292},0]
["2021-09-30",44469,0,147,null,0,null,0,"2021-09-30",{"$f":"LOOKUP(I153,KURLAR!B148:B512,KURLAR!E148:E512)","v":11.9292},0]
["2021-09-30",44469,0,148,null,0,null,0,"2021-09-30",{"$f":"LOOKUP(I154,KURLAR!B149:B513,KURLAR!E149:E513)","v":11.9292},0]
["2021-09-30",44469,0,149,null,0,null,0,"2021-09-30",{"$f":"LOOKUP(I155,KURLAR!B150:B514,KURLAR!E150:E514)","v":11.9292},0]
["2021-09-30",44469,0,150,null,0,null,0,"2021-09-30",{"$f":"LOOKUP(I156,KURLAR!B151:B515,KURLAR!E151:E515)","v":11.9292},0]
["2021-09-30",44469,0,151,null,0,null,0,"2021-09-30",{"$f":"LOOKUP(I157,KURLAR!B152:B516,KURLAR!E152:E516)","v":11.9292},0]
["2021-09-30",44469,0,152,null,0,null,0,"2021-09-30",{"$f":"LOOKUP(I158,KURLAR!B153:B517,KURLAR!E153:E517)","v":11.9292},0]
["2021-09-30",44469,0,153,null,0,null,0,"2021-09-30",{"$f":"LOOKUP(I159,KURLAR!B154:B518,KURLAR!E154:E518)","v":11.9292},0]
["2021-09-30",44469,0,154,null,0,null,0,"2021-09-30",{"$f":"LOOKUP(I160,KURLAR!B155:B519,KURLAR!E155:E519)","v":11.9292},0]
["2021-09-30",44469,0,155,null,0,null,0,"2021-09-30",{"$f":"LOOKUP(I161,KURLAR!B156:B520,KURLAR!E156:E520)","v":11.9292},0]
["2021-09-30",44469,0,156,null,0,null,0,"2021-09-30",{"$f":"LOOKUP(I162,KURLAR!B157:B521,KURLAR!E157:E521)","v":11.9292},0]
["2021-09-30",44469,0,157,null,0,null,0,"2021-09-30",{"$f":"LOOKUP(I163,KURLAR!B158:B522,KURLAR!E158:E522)","v":11.9292},0]
["2021-09-30",44469,0,158,null,0,null,0,"2021-09-30",{"$f":"LOOKUP(I164,KURLAR!B159:B523,KURLAR!E159:E523)","v":11.9292},0]
["2021-09-30",44469,0,159,null,0,null,0,"2021-09-30",{"$f":"LOOKUP(I165,KURLAR!B160:B524,KURLAR!E160:E524)","v":11.9292},0]
["2021-09-30",44469,0,160,null,0,null,0,"2021-09-30",{"$f":"LOOKUP(I166,KURLAR!B161:B525,KURLAR!E161:E525)","v":11.9292},0]
["2021-09-30",44469,0,161,null,0,null,0,"2021-09-30",{"$f":"LOOKUP(I167,KURLAR!B162:B526,KURLAR!E162:E526)","v":11.9292},0]
["2021-09-30",44469,0,162,null,0,null,0,"2021-09-30",{"$f":"LOOKUP(I168,KURLAR!B163:B527,KURLAR!E163:E527)","v":11.9292},0]
["2021-09-30",44469,0,163,null,0,null,0,"2021-09-30",{"$f":"LOOKUP(I169,KURLAR!B164:B528,KURLAR!E164:E528)","v":11.9292},0]
["2021-09-30",44469,0,164,null,0,null,0,"2021-09-30",{"$f":"LOOKUP(I170,KURLAR!B165:B529,KURLAR!E165:E529)","v":11.9292},0]
["2021-09-30",44469,0,165,null,0,null,0,"2021-09-30",{"$f":"LOOKUP(I171,KURLAR!B166:B530,KURLAR!E166:E530)","v":11.9292},0]
["2021-09-30",44469,0,166,null,0,null,0,"2021-09-30",{"$f":"LOOKUP(I172,KURLAR!B167:B531,KURLAR!E167:E531)","v":11.9292},0]
["2021-09-30",44469,0,167,null,0,null,0,"2021-09-30",{"$f":"LOOKUP(I173,KURLAR!B168:B532,KURLAR!E168:E532)","v":11.9292},0]
["2021-09-30",44469,0,168,null,0,null,0,"2021-09-30",{"$f":"LOOKUP(I174,KURLAR!B169:B533,KURLAR!E169:E533)","v":11.9292},0]
["2021-09-30",44469,0,169,null,0,null,0,"2021-09-30",{"$f":"LOOKUP(I175,KURLAR!B170:B534,KURLAR!E170:E534)","v":11.9292},0]
["2021-09-30",44469,0,170,null,0,null,0,"2021-09-30",{"$f":"LOOKUP(I176,KURLAR!B171:B535,KURLAR!E171:E535)","v":11.9292},0]
["2021-09-30",44469,0,171,null,0,null,0,"2021-09-30",{"$f":"LOOKUP(I177,KURLAR!B172:B536,KURLAR!E172:E536)","v":11.9292},0]
["2021-09-30",44469,0,172,null,0,null,0,"2021-09-30",{"$f":"LOOKUP(I178,KURLAR!B173:B537,KURLAR!E173:E537)","v":11.9292},0]
["2021-09-30",44469,0,173,null,0,null,0,"2021-09-30",{"$f":"LOOKUP(I179,KURLAR!B174:B538,KURLAR!E174:E538)","v":11.9292},0]
["2021-09-30",44469,0,174,null,0,null,0,"2021-09-30",{"$f":"LOOKUP(I180,KURLAR!B175:B539,KURLAR!E175:E539)","v":11.9292},0]
["2021-09-30",44469,0,175,null,0,null,0,"2021-09-30",{"$f":"LOOKUP(I181,KURLAR!B176:B540,KURLAR!E176:E540)","v":11.9292},0]
["2021-09-30",44469,0,176,null,0,null,0,"2021-09-30",{"$f":"LOOKUP(I182,KURLAR!B177:B541,KURLAR!E177:E541)","v":11.9292},0]
["2021-09-30",44469,0,177,null,0,null,0,"2021-09-30",{"$f":"LOOKUP(I183,KURLAR!B178:B542,KURLAR!E178:E542)","v":11.9292},0]
["2021-09-30",44469,0,178,null,0,null,0,"2021-09-30",{"$f":"LOOKUP(I184,KURLAR!B179:B543,KURLAR!E179:E543)","v":11.9292},0]
["2021-09-30",44469,0,179,null,0,null,0,"2021-09-30",{"$f":"LOOKUP(I185,KURLAR!B180:B544,KURLAR!E180:E544)","v":11.9292},0]
["2021-09-30",44469,0,180,null,0,null,0,"2021-09-30",{"$f":"LOOKUP(I186,KURLAR!B181:B545,KURLAR!E181:E545)","v":11.9292},0]
["2021-09-30",44469,0,181,null,0,null,0,"2021-09-30",{"$f":"LOOKUP(I187,KURLAR!B182:B546,KURLAR!E182:E546)","v":11.9292},0]
["2021-09-30",44469,0,182,null,0,null,0,"2021-09-30",{"$f":"LOOKUP(I188,KURLAR!B183:B547,KURLAR!E183:E547)","v":11.9292},0]
["2021-09-30",44469,0,183,null,0,null,0,"2021-09-30",{"$f":"LOOKUP(I189,KURLAR!B184:B548,KURLAR!E184:E548)","v":11.9292},0]
["2021-09-30",44469,0,184,null,0,null,0,"2021-09-30",{"$f":"LOOKUP(I190,KURLAR!B185:B549,KURLAR!E185:E549)","v":11.9292},0]
["2021-09-30",{"$f":"A191","v":44469},{"$f":"E191","v":0},185,null,{"$f":"F190-G190","v":0},null,{"$f":"H190-G191","v":0},{"$f":"IF(C191>=B191,E191,(A191))","v":"2021-09-30"},{"$f":"LOOKUP(I191,KURLAR!B186:B550,KURLAR!E186:E550)","v":11.9292},{"$f":"G191*($G$3-J191)","v":0}]
["2021-09-30",44469,0,186,null,0,null,0,"2021-09-30",{"$f":"LOOKUP(I192,KURLAR!B187:B551,KURLAR!E187:E551)","v":11.9292},0]
["2021-09-30",44469,0,187,null,0,null,0,"2021-09-30",{"$f":"LOOKUP(I193,KURLAR!B188:B552,KURLAR!E188:E552)","v":11.9292},0]
["2021-09-30",44469,0,188,null,0,null,0,"2021-09-30",{"$f":"LOOKUP(I194,KURLAR!B189:B553,KURLAR!E189:E553)","v":11.9292},0]
["2021-09-30",44469,0,189,null,0,null,0,"2021-09-30",{"$f":"LOOKUP(I195,KURLAR!B190:B554,KURLAR!E190:E554)","v":11.9292},0]
["2021-09-30",44469,0,190,null,0,null,0,"2021-09-30",{"$f":"LOOKUP(I196,KURLAR!B191:B555,KURLAR!E191:E555)","v":11.9292},0]
["2021-09-30",44469,0,191,null,0,null,0,"2021-09-30",{"$f":"LOOKUP(I197,KURLAR!B192:B556,KURLAR!E192:E556)","v":11.9292},0]
["2021-09-30",44469,0,192,null,0,null,0,"2021-09-30",{"$f":"LOOKUP(I198,KURLAR!B193:B557,KURLAR!E193:E557)","v":11.9292},0]
["2021-09-30",44469,0,193,null,0,null,0,"2021-09-30",{"$f":"LOOKUP(I199,KURLAR!B194:B558,KURLAR!E194:E558)","v":11.9292},0]
["2021-09-30",44469,0,194,null,0,null,0,"2021-09-30",{"$f":"LOOKUP(I200,KURLAR!B195:B559,KURLAR!E195:E559)","v":11.9292},0]
["2021-09-30",44469,0,195,null,0,null,0,"2021-09-30",{"$f":"LOOKUP(I201,KURLAR!B196:B560,KURLAR!E196:E560)","v":11.9292},0]
["2021-09-30",44469,0,196,null,0,null,0,"2021-09-30",{"$f":"LOOKUP(I202,KURLAR!B197:B561,KURLAR!E197:E561)","v":11.9292},0]
["2021-09-30",44469,0,197,null,0,null,0,"2021-09-30",{"$f":"LOOKUP(I203,KURLAR!B198:B562,KURLAR!E198:E562)","v":11.9292},0]
["2021-09-30",44469,0,198,null,0,null,0,"2021-09-30",{"$f":"LOOKUP(I204,KURLAR!B199:B563,KURLAR!E199:E563)","v":11.9292},0]
["2021-09-30",44469,0,199,null,0,null,0,"2021-09-30",{"$f":"LOOKUP(I205,KURLAR!B200:B564,KURLAR!E200:E564)","v":11.9292},0]
["2021-09-30",44469,0,200,null,0,null,0,"2021-09-30",{"$f":"LOOKUP(I206,KURLAR!B201:B565,KURLAR!E201:E565)","v":11.9292},0]
[null,null,null,"GENEL TOPLAM",null,null,{"$f":"SUM(G7:G206)","v":0},null,null,null,{"$f":"SUM(K7:K206)","v":0}]

{"sheet":"KURLAR","index":5,"n_rows":366,"n_cols":5,"rows_kept":366,"cut":false,"hidden":false,"merged":[]}
["Tarihin Sayı Değeri","TARİH","USD ALIŞ","AVRO ALIŞ","İNGİLİZ STERLİNİ ALIŞ"]
[{"$f":"B2","v":44197},"2021-01-01",7.4194000000000004,9.1164000000000005,10.1142]
[{"$f":"B3","v":44198},"2021-01-02",7.4194000000000004,9.1164000000000005,10.1142]
[44199,"2021-01-03",7.4194000000000004,9.1164000000000005,10.1142]
[44200,"2021-01-04",7.4194000000000004,9.1164000000000005,10.1142]
[44201,"2021-01-05",7.3601999999999999,9.0381999999999998,10.054399999999999]
[44202,"2021-01-06",7.3865999999999996,9.0655999999999999,10.014799999999999]
[44203,"2021-01-07",7.33,9.0396999999999998,9.9842999999999993]
[44204,"2021-01-08",7.2732999999999999,8.9342000000000006,9.8641000000000005]
[44205,"2021-01-09",7.3490000000000002,8.9968000000000004,9.9666999999999994]
[44206,"2021-01-10",7.3490000000000002,8.9968000000000004,9.9666999999999994]
[44207,"2021-01-11",7.3490000000000002,8.9968000000000004,9.9666999999999994]
[44208,"2021-01-12",7.4431000000000003,9.0629000000000008,10.029]
[44209,"2021-01-13",7.4607999999999999,9.0693000000000001,10.1082]
[44210,"2021-01-14",7.4284999999999997,9.0551999999999992,10.144]
[44211,"2021-01-15",7.3884999999999996,8.9815000000000005,10.068899999999999]
[44212,"2021-01-16",7.3876999999999997,8.9634999999999998,10.0685]
[44213,"2021-01-17",7.3876999999999997,8.9634999999999998,10.0685]
[44214,"2021-01-18",7.3876999999999997,8.9634999999999998,10.0685]
[44215,"2021-01-19",7.4951999999999996,9.0457000000000001,10.1348]
[44216,"2021-01-20",7.4485000000000001,9.0235000000000003,10.119400000000001]
[44217,"2021-01-21",7.4367000000000001,9.0231999999999992,10.155900000000001]
[44218,"2021-01-22",7.3836000000000004,8.9596999999999998,10.1128]
[44219,"2021-01-23",7.3985000000000003,9.0044000000000004,10.1006]
[44220,"2021-01-24",7.3985000000000003,9.0044000000000004,10.1006]
[44221,"2021-01-25",7.3985000000000003,9.0044000000000004,10.1006]
[44222,"2021-01-26",7.3796999999999997,8.9778000000000002,10.092599999999999]
[44223,"2021-01-27",7.3834999999999997,8.9550000000000001,10.0587]
[44224,"2021-01-28",7.3544,8.9276,10.0854]
[44225,"2021-01-29",7.3723000000000001,8.9215999999999998,10.0504]
[44226,"2021-01-30",7.3216000000000001,8.8718000000000004,10.01]
[44227,"2021-01-31",7.3216000000000001,8.8718000000000004,10.01]
[44228,"2021-02-01",7.3216000000000001,8.8718000000000004,10.01]
[44229,"2021-02-02",7.2184999999999997,8.7345000000000006,9.8916000000000004]
[44230,"2021-02-03",7.1372,8.6069999999999993,9.7487999999999992]
[44231,"2021-02-04",7.1497999999999999,8.5995000000000008,9.7423000000000002]
[44232,"2021-02-05",7.1323999999999996,8.5558999999999994,9.6717999999999993]
[44233,"2021-02-06",7.0789,8.4763999999999999,9.6735000000000007]
[44234,"2021-02-07",7.0789,8.4763999999999999,9.6735000000000007]
[44235,"2021-02-08",7.0789,8.4763999999999999,9.6735000000000007]
[44236,"2021-02-09",7.0663,8.5036000000000005,9.6714000000000002]
[44237,"2021-02-10",7.0820999999999996,8.5663999999999998,9.7399000000000004]
[44238,"2021-02-11",7.0513000000000003,8.5517000000000003,9.7394999999999996]
[44239,"2021-02-12",7.0404,8.5373999999999999,9.7222000000000008]
[44240,"2021-02-13",7.0162000000000004,8.4977,9.6582000000000008]
[44241,"2021-02-14",7.0162000000000004,8.4977,9.6582000000000008]
[44242,"2021-02-15",7.0162000000000004,8.4977,9.6582000000000008]
[44243,"2021-02-16",6.9724000000000004,8.4606999999999992,9.6754999999999995]
[44244,"2021-02-17",6.915,8.4025999999999996,9.6141000000000005]
[44245,"2021-02-18",7.0039999999999996,8.4558,9.7037999999999993]
[44246,"2021-02-19",6.9527000000000001,8.3866999999999994,9.6502999999999997]
[44247,"2021-02-20",6.9611000000000001,8.4406999999999996,9.7225999999999999]
[44248,"2021-02-21",6.9611000000000001,8.4406999999999996,9.7225999999999999]
[44249,"2021-02-22",6.9611000000000001,8.4406999999999996,9.7225999999999999]
[44250,"2021-02-23",6.9939999999999998,8.4749999999999996,9.7828999999999997]
[44251,"2021-02-24",7.0252999999999997,8.5418000000000003,9.8772000000000002]
[44252,"2021-02-25",7.1356999999999999,8.6774000000000004,10.091200000000001]
[44253,"2021-02-26",7.1924000000000001,8.7811000000000003,10.166]
[44254,"2021-02-27",7.3708,8.9420000000000002,10.2477]
[44255,"2021-02-28",7.3708,8.9420000000000002,10.2477]
[44256,"2021-03-01",7.3708,8.9420000000000002,10.2477]
[44257,"2021-03-02",7.3029000000000002,8.8058999999999994,10.175800000000001]
[44258,"2021-03-03",7.3117000000000001,8.7855000000000008,10.138]
[44259,"2021-03-04",7.3391000000000002,8.8679000000000006,10.2348]
[44260,"2021-03-05",7.4523999999999999,8.9768000000000008,10.374000000000001]
[44261,"2021-03-06",7.5095999999999998,8.9642999999999997,10.374700000000001]
[{"$f":"B67","v":44262},"2021-03-07",7.5095999999999998,8.9642999999999997,10.374700000000001]
[44263,"2021-03-08",7.5095999999999998,8.9642999999999997,10.374700000000001]
[44264,"2021-03-09",7.5938999999999997,9.0207999999999995,10.481999999999999]
[44265,"2021-03-10",7.6402999999999999,9.0851000000000006,10.5838]
[44266,"2021-03-11",7.5952000000000002,9.0314999999999994,10.529400000000001]
[44267,"2021-03-12",7.4446000000000003,8.8994999999999997,10.3672]
[44268,"2021-03-13",7.5709,9.0326000000000004,10.5266]
[44269,"2021-03-14",7.5709,9.0326000000000004,10.5266]
[44270,"2021-03-15",7.5709,9.0326000000000004,10.5266]
[44271,"2021-03-16",7.5373999999999999,8.9911999999999992,10.478400000000001]
[44272,"2021-03-17",7.5041000000000002,8.9540000000000006,10.3687]
[44273,"2021-03-18",7.4980000000000002,8.9242000000000008,10.4093]
[44274,"2021-03-19",7.4573,8.9113000000000007,10.3985]
[44275,"2021-03-20",7.2670000000000003,8.6565999999999992,10.106400000000001]
[44276,"2021-03-21",7.2670000000000003,8.6565999999999992,10.106400000000001]
[44277,"2021-03-22",7.2670000000000003,8.6565999999999992,10.106400000000001]
[44278,"2021-03-23",7.9039999999999999,9.4069000000000003,10.9343]
[44279,"2021-03-24",7.8082000000000003,9.2902000000000005,10.7583]
[44280,"2021-03-25",7.9665999999999997,9.4257000000000009,10.901999999999999]
[44281,"2021-03-26",7.9409000000000001,9.3778000000000006,10.8559]
[44282,"2021-03-27",7.9893000000000001,9.4149999999999991,10.9848]
[44283,"2021-03-28",7.9893000000000001,9.4149999999999991,10.9848]
[44284,"2021-03-29",7.9893000000000001,9.4149999999999991,10.9848]
[44285,"2021-03-30",8.1191999999999993,9.5617999999999999,11.1957]
[44286,"2021-03-31",8.3260000000000005,9.7741000000000007,11.432399999999999]
[44287,"2021-04-01",8.3257999999999992,9.7688000000000006,11.4411]
[44288,"2021-04-02",8.1707000000000001,9.5898000000000003,11.2369]
[44289,"2021-04-03",8.0361999999999991,9.4646000000000008,11.1005]
[44290,"2021-04-04",8.0361999999999991,9.4646000000000008,11.1005]
[44291,"2021-04-05",8.0361999999999991,9.4646000000000008,11.1005]
[44292,"2021-04-06",8.1394000000000002,9.5622000000000007,11.2559]
[44293,"2021-04-07",8.1440999999999999,9.6190999999999995,11.261799999999999]
[44294,"2021-04-08",8.1687999999999992,9.7074999999999996,11.262499999999999]
[44295,"2021-04-09",8.1517999999999997,9.6807999999999996,11.1906]
[44296,"2021-04-10",8.1382999999999992,9.6776999999999997,11.134499999999999]
[44297,"2021-04-11",8.1382999999999992,9.6776999999999997,11.134499999999999]
[44298,"2021-04-12",8.1382999999999992,9.6776999999999997,11.134499999999999]
[44299,"2021-04-13",8.1681000000000008,9.7149000000000001,11.203900000000001]
[44300,"2021-04-14",8.1382999999999992,9.6805000000000003,11.167400000000001]
[44301,"2021-04-15",8.0729000000000006,9.6557999999999993,11.103]
[44302,"2021-04-16",8.0566999999999993,9.6470000000000002,11.0847]
[44303,"2021-04-17",8.0573999999999995,9.6524000000000001,11.074199999999999]
[44304,"2021-04-18",8.0573999999999995,9.6524000000000001,11.074199999999999]
[44305,"2021-04-19",8.0573999999999995,9.6524000000000001,11.074199999999999]
[44306,"2021-04-20",8.0513999999999992,9.6801999999999992,11.167]
[44307,"2021-04-21",8.1011000000000006,9.7718000000000007,11.309699999999999]
[44308,"2021-04-22",8.1433,9.7815999999999992,11.325799999999999]
[44309,"2021-04-23",8.2693999999999992,9.9575999999999993,11.4841]
[44310,"2021-04-24",8.2693999999999992,9.9575999999999993,11.4841]
[44311,"2021-04-25",8.2693999999999992,9.9575999999999993,11.4841]
[44312,"2021-04-26",8.2693999999999992,9.9575999999999993,11.4841]
[44313,"2021-04-27",8.3294999999999995,10.073499999999999,11.563700000000001]
[44314,"2021-04-28",8.2309999999999999,9.9370999999999992,11.413]
[44315,"2021-04-29",8.1859999999999999,9.8798999999999992,11.3398]
[44316,"2021-04-30",8.1753,9.9090000000000007,11.385199999999999]
[44317,"2021-05-01",8.2310999999999996,9.9544999999999995,11.432700000000001]
[44318,"2021-05-02",8.2310999999999996,9.9544999999999995,11.432700000000001]
[44319,"2021-05-03",8.2310999999999996,9.9544999999999995,11.432700000000001]
[44320,"2021-05-04",8.2919999999999998,9.9885000000000002,11.4678]
[44321,"2021-05-05",8.3091000000000008,9.9837000000000007,11.5085]
[44322,"2021-05-06",8.34,10.010899999999999,11.574400000000001]
[44323,"2021-05-07",8.3062000000000005,9.9978999999999996,11.530900000000001]
[44324,"2021-05-08",8.2729999999999997,9.9878999999999998,11.491899999999999]
[44325,"2021-05-09",8.2729999999999997,9.9878999999999998,11.491899999999999]
[{"$f":"B131","v":44326},"2021-05-10",8.2729999999999997,9.9878999999999998,11.491899999999999]
[44327,"2021-05-11",8.2456999999999994,10.0284,11.597799999999999]
[44328,"2021-05-12",8.2866999999999997,10.072699999999999,11.689500000000001]
[44329,"2021-05-13",8.2866999999999997,10.072699999999999,11.689500000000001]
[44330,"2021-05-14",8.2866999999999997,10.072699999999999,11.689500000000001]
[44331,"2021-05-15",8.2866999999999997,10.072699999999999,11.689500000000001]
[44332,"2021-05-16",8.2866999999999997,10.072699999999999,11.689500000000001]
[44333,"2021-05-17",8.2866999999999997,10.072699999999999,11.689500000000001]
[44334,"2021-05-18",8.3468999999999998,10.1403,11.7492]
[44335,"2021-05-19",8.3280999999999992,10.166700000000001,11.8049]
[44336,"2021-05-20",8.3280999999999992,10.166700000000001,11.8049]
[44337,"2021-05-21",8.3689,10.2043,11.8009]
[44338,"2021-05-22",8.3553999999999995,10.2072,11.8423]
[44339,"2021-05-23",8.3553999999999995,10.2072,11.8423]
[44340,"2021-05-24",8.3553999999999995,10.2072,11.8423]
[44341,"2021-05-25",8.3811,10.2278,11.831799999999999]
[44342,"2021-05-26",8.3947000000000003,10.286099999999999,11.8826]
[44343,"2021-05-27",8.4329999999999998,10.322699999999999,11.918900000000001]
[44344,"2021-05-28",8.4322999999999997,10.2849,11.8935]
[44345,"2021-05-29",8.5495999999999999,10.4147,12.1068]
[44346,"2021-05-30",8.5495999999999999,10.4147,12.1068]
[44347,"2021-05-31",8.5495999999999999,10.4147,12.1068]
[44348,"2021-06-01",8.4990000000000006,10.3629,12.028499999999999]
[44349,"2021-06-02",8.5031999999999996,10.399800000000001,12.051399999999999]
[44350,"2021-06-03",8.6066000000000003,10.4895,12.147500000000001]
[44351,"2021-06-04",8.6231000000000009,10.5091,12.1996]
[44352,"2021-06-05",8.6820000000000004,10.516,12.2387]
[44353,"2021-06-06",8.6820000000000004,10.516,12.2387]
[44354,"2021-06-07",8.6820000000000004,10.516,12.2387]
[44355,"2021-06-08",8.6201000000000008,10.4825,12.1715]
[44356,"2021-06-09",8.5891000000000002,10.458500000000001,12.127599999999999]
[44357,"2021-06-10",8.5749999999999993,10.451499999999999,12.135400000000001]
[44358,"2021-06-11",8.5312999999999999,10.380800000000001,12.006500000000001]
[44359,"2021-06-12",8.3546999999999993,10.1615,11.809699999999999]
[44360,"2021-06-13",8.3546999999999993,10.1615,11.809699999999999]
[44361,"2021-06-14",8.3546999999999993,10.1615,11.809699999999999]
[44362,"2021-06-15",8.3374000000000006,10.0998,11.7348]
[44363,"2021-06-16",8.5473999999999997,10.364599999999999,12.019299999999999]
[44364,"2021-06-17",8.5218000000000007,10.332700000000001,12.007]
[44365,"2021-06-18",8.6242999999999999,10.3072,12.0265]
[44366,"2021-06-19",8.6646000000000001,10.319699999999999,12.0129]
[44367,"2021-06-20",8.6646000000000001,10.319699999999999,12.0129]
[44368,"2021-06-21",8.6646000000000001,10.319699999999999,12.0129]
[44369,"2021-06-22",8.7497000000000007,10.4032,12.1006]
[44370,"2021-06-23",8.7202000000000002,10.372199999999999,12.086600000000001]
[44371,"2021-06-24",8.6138999999999992,10.2828,12.011900000000001]
[44372,"2021-06-25",8.6593,10.335599999999999,12.0641]
[44373,"2021-06-26",8.6771999999999991,10.364599999999999,12.0479]
[44374,"2021-06-27",8.6771999999999991,10.364599999999999,12.0479]
[44375,"2021-06-28",8.6771999999999991,10.364599999999999,12.0479]
[44376,"2021-06-29",8.7218999999999998,10.4077,12.1165]
[44377,"2021-06-30",8.7051999999999996,10.3645,12.0343]
[44378,"2021-07-01",8.6803000000000008,10.3249,12.0008]
[44379,"2021-07-02",8.6768000000000001,10.2889,11.953200000000001]
[44380,"2021-07-03",8.6797000000000004,10.265700000000001,11.914400000000001]
[44381,"2021-07-04",8.6797000000000004,10.265700000000001,11.914400000000001]
[44382,"2021-07-05",8.6797000000000004,10.265700000000001,11.914400000000001]
[44383,"2021-07-06",8.6649999999999991,10.287000000000001,11.9824]
[44384,"2021-07-07",8.6515000000000004,10.2562,11.972200000000001]
[44385,"2021-07-08",8.6656999999999993,10.2469,11.9457]
[44386,"2021-07-09",8.6867000000000001,10.2721,11.946099999999999]
[44387,"2021-07-10",8.6715,10.2712,11.9384]
[44388,"2021-07-11",8.6715,10.2712,11.9384]
[44389,"2021-07-12",8.6715,10.2712,11.9384]
[{"$f":"B195","v":44390},"2021-07-13",8.6318999999999999,10.2354,11.946199999999999]
[44391,"2021-07-14",8.6033000000000008,10.192600000000001,11.9041]
[44392,"2021-07-15",8.6122999999999994,10.156000000000001,11.9077]
[44393,"2021-07-16",8.6122999999999994,10.156000000000001,11.9077]
[44394,"2021-07-17",8.5099,10.048299999999999,11.742000000000001]
[44395,"2021-07-18",8.5099,10.048299999999999,11.742000000000001]
[44396,"2021-07-19",8.5099,10.048299999999999,11.742000000000001]
[44397,"2021-07-20",8.5099,10.048299999999999,11.742000000000001]
[44398,"2021-07-21",8.5099,10.048299999999999,11.742000000000001]
[44399,"2021-07-22",8.5099,10.048299999999999,11.742000000000001]
[44400,"2021-07-23",8.5099,10.048299999999999,11.742000000000001]
[44401,"2021-07-24",8.5099,10.048299999999999,11.742000000000001]
[44402,"2021-07-25",8.5099,10.048299999999999,11.742000000000001]
[44403,"2021-07-26",8.5099,10.048299999999999,11.742000000000001]
[44404,"2021-07-27",8.5730000000000004,10.105,11.789]
[44405,"2021-07-28",8.5603999999999996,10.089600000000001,11.7875]
[44406,"2021-07-29",8.5446000000000009,10.0929,11.8393]
[44407,"2021-07-30",8.4975000000000005,10.0862,11.8338]
[44408,"2021-07-31",8.4138999999999999,10.0084,11.7308]
[44409,"2021-08-01",8.4138999999999999,10.0084,11.7308]
[44410,"2021-08-02",8.4138999999999999,10.0084,11.7308]
[44411,"2021-08-03",8.3849999999999998,9.9677000000000007,11.6457]
[44412,"2021-08-04",8.3229000000000006,9.8905999999999992,11.564299999999999]
[44413,"2021-08-05",8.4192999999999998,9.9891000000000005,11.712300000000001]
[44414,"2021-08-06",8.5261999999999993,10.0976,11.846299999999999]
[44415,"2021-08-07",8.5618999999999996,10.1149,11.895799999999999]
[44416,"2021-08-08",8.5618999999999996,10.1149,11.895799999999999]
[44417,"2021-08-09",8.5618999999999996,10.1149,11.895799999999999]
[44418,"2021-08-10",8.6425999999999998,10.1622,11.971399999999999]
[44419,"2021-08-11",8.6204999999999998,10.1112,11.9262]
[44420,"2021-08-12",8.6243999999999996,10.1014,11.8977]
[44421,"2021-08-13",8.5723000000000003,10.064,11.8612]
[44422,"2021-08-14",8.5358999999999998,10.0251,11.7644]
[44423,"2021-08-15",8.5358999999999998,10.0251,11.7644]
[44424,"2021-08-16",8.5358999999999998,10.0251,11.7644]
[44425,"2021-08-17",8.4680999999999997,9.9762000000000004,11.714600000000001]
[44426,"2021-08-18",8.4140999999999995,9.9022000000000006,11.5906]
[44427,"2021-08-19",8.4632000000000005,9.9174000000000007,11.6189]
[44428,"2021-08-20",8.5111000000000008,9.9490999999999996,11.632400000000001]
[44429,"2021-08-21",8.5253999999999994,9.9550999999999998,11.590299999999999]
[44430,"2021-08-22",8.5253999999999994,9.9550999999999998,11.590299999999999]
[44431,"2021-08-23",8.5253999999999994,9.9550999999999998,11.590299999999999]
[44432,"2021-08-24",8.4572000000000003,9.9144000000000005,11.536099999999999]
[44433,"2021-08-25",8.4131999999999998,9.8727999999999998,11.5221]
[44434,"2021-08-26",8.3796999999999997,9.8404000000000007,11.477399999999999]
[44435,"2021-08-27",8.3577999999999992,9.8352000000000004,11.464700000000001]
[44436,"2021-08-28",8.3752999999999993,9.8493999999999993,11.463100000000001]
[44437,"2021-08-29",8.3752999999999993,9.8493999999999993,11.463100000000001]
[44438,"2021-08-30",8.3752999999999993,9.8493999999999993,11.463100000000001]
[44439,"2021-08-31",8.3752999999999993,9.8493999999999993,11.463100000000001]
[44440,"2021-09-01",8.3042999999999996,9.8228000000000009,11.422499999999999]
[44441,"2021-09-02",8.2875999999999994,9.7910000000000004,11.3819]
[44442,"2021-09-03",8.2632999999999992,9.7911000000000001,11.3749]
[44443,"2021-09-04",8.2949999999999999,9.8491999999999997,11.452]
[44444,"2021-09-05",8.2949999999999999,9.8491999999999997,11.452]
[44445,"2021-09-06",8.2949999999999999,9.8491999999999997,11.452]
[44446,"2021-09-07",8.2766999999999999,9.8199000000000005,11.4368]
[44447,"2021-09-08",8.2980999999999998,9.8506,11.440300000000001]
[44448,"2021-09-09",8.4062999999999999,9.9393999999999991,11.5501]
[44449,"2021-09-10",8.4655000000000005,10.014200000000001,11.6671]
[44450,"2021-09-11",8.4044000000000008,9.9478000000000009,11.64]
[44451,"2021-09-12",8.4044000000000008,9.9478000000000009,11.64]
[44452,"2021-09-13",8.4044000000000008,9.9478000000000009,11.64]
[44453,"2021-09-14",8.4441000000000006,9.9496000000000002,11.6493]
[{"$f":"B259","v":44454},"2021-09-15",8.4314,9.9614999999999991,11.6686]
[44455,"2021-09-16",8.4271999999999991,9.9616000000000007,11.6333]
[44456,"2021-09-17",8.4402000000000008,9.9382000000000001,11.647600000000001]
[44457,"2021-09-18",8.5678000000000001,10.0921,11.797599999999999]
[44458,"2021-09-19",8.5678000000000001,10.0921,11.797599999999999]
[44459,"2021-09-20",8.5678000000000001,10.0921,11.797599999999999]
[44460,"2021-09-21",8.6647999999999996,10.146699999999999,11.829800000000001]
[44461,"2021-09-22",8.6301000000000005,10.1272,11.7875]
[44462,"2021-09-23",8.6349,10.129099999999999,11.7585]
[44463,"2021-09-24",8.6584000000000003,10.1456,11.819100000000001]
[44464,"2021-09-25",8.8239999999999998,10.352600000000001,12.0717]
[44465,"2021-09-26",8.8239999999999998,10.352600000000001,12.0717]
[44466,"2021-09-27",8.8239999999999998,10.352600000000001,12.0717]
[44467,"2021-09-28",8.8354999999999997,10.336399999999999,12.075900000000001]
[44468,"2021-09-29",8.8584999999999994,10.348599999999999,12.0686]
[44469,"2021-09-30",8.8432999999999993,10.313499999999999,11.9292]
[44470,"2021-10-01",8.8785000000000007,10.2933,11.9175]
[44471,"2021-10-02",8.8468999999999998,10.2484,11.914999999999999]
[44472,"2021-10-03",8.8468999999999998,10.2484,11.914999999999999]
[44473,"2021-10-04",8.8468999999999998,10.2484,11.914999999999999]
[44474,"2021-10-05",8.8521999999999998,10.2822,11.997199999999999]
[44475,"2021-10-06",8.8444000000000003,10.2583,12.022500000000001]
[44476,"2021-10-07",8.9064999999999994,10.287599999999999,12.064399999999999]
[44477,"2021-10-08",8.8609000000000009,10.2469,12.0252]
[44478,"2021-10-09",8.8981999999999992,10.283200000000001,12.090400000000001]
[44479,"2021-10-10",8.8981999999999992,10.283200000000001,12.090400000000001]
[44480,"2021-10-11",8.8981999999999992,10.283200000000001,12.090400000000001]
[44481,"2021-10-12",8.9367000000000001,10.3398,12.168900000000001]
[44482,"2021-10-13",8.9995999999999992,10.4026,12.223699999999999]
[44483,"2021-10-14",9.0221999999999998,10.4268,12.270300000000001]
[44484,"2021-10-15",9.1416000000000004,10.612,12.5098]
[44485,"2021-10-16",9.1992999999999991,10.6785,12.607100000000001]
[44486,"2021-10-17",9.1992999999999991,10.6785,12.607100000000001]
[44487,"2021-10-18",9.1992999999999991,10.6785,12.607100000000001]
[44488,"2021-10-19",9.2667000000000002,10.737500000000001,12.7042]
[44489,"2021-10-20",9.2844999999999995,10.823700000000001,12.7928]
[44490,"2021-10-21",9.3140000000000001,10.8308,12.802199999999999]
[44491,"2021-10-22",9.2857000000000003,10.8108,12.798999999999999]
[44492,"2021-10-23",9.5860000000000003,11.156599999999999,13.199]
[44493,"2021-10-24",9.5860000000000003,11.156599999999999,13.199]
[44494,"2021-10-25",9.5860000000000003,11.156599999999999,13.199]
[44495,"2021-10-26",9.7362000000000002,11.3283,13.381399999999999]
[44496,"2021-10-27",9.4574999999999996,10.981199999999999,13.0228]
[44497,"2021-10-28",9.4812999999999992,10.997999999999999,13.0023]
[44498,"2021-10-29",9.4812999999999992,10.997999999999999,13.0023]
[44499,"2021-10-30",9.4812999999999992,10.997999999999999,13.0023]
[44500,"2021-10-31",9.4812999999999992,10.997999999999999,13.0023]
[44501,"2021-11-01",9.4812999999999992,10.997999999999999,13.0023]
[44502,"2021-11-02",9.5287000000000006,11.021599999999999,12.994300000000001]
[44503,"2021-11-03",9.5170999999999992,11.0413,12.964399999999999]
[44504,"2021-11-04",9.657,11.1892,13.139900000000001]
[44505,"2021-11-05",9.6883999999999997,11.199,13.195600000000001]
[44506,"2021-11-06",9.6999999999999993,11.1995,13.035500000000001]
[44507,"2021-11-07",9.6999999999999993,11.1995,13.035500000000001]
[44508,"2021-11-08",9.6999999999999993,11.1995,13.035500000000001]
[44509,"2021-11-09",9.6847999999999992,11.2013,13.0434]
[44510,"2021-11-10",9.7028999999999996,11.2469,13.151300000000001]
[44511,"2021-11-11",9.7812000000000001,11.3156,13.2194]
[44512,"2021-11-12",9.9169999999999998,11.3726,13.2646]
[44513,"2021-11-13",9.9105000000000008,11.344799999999999,13.2486]
[44514,"2021-11-14",9.9105000000000008,11.344799999999999,13.2486]
[44515,"2021-11-15",9.9105000000000008,11.344799999999999,13.2486]
[44516,"2021-11-16",9.9803999999999995,11.4282,13.3758]
[44517,"2021-11-17",10.1671,11.560600000000001,13.6541]
[{"$f":"B323","v":44518},"2021-11-18",10.3993,11.762700000000001,13.9566]
[44519,"2021-11-19",10.696300000000001,12.122400000000001,14.411099999999999]
[44520,"2021-11-20",11.0266,12.4815,14.8155]
[44521,"2021-11-21",11.0266,12.4815,14.8155]
[44522,"2021-11-22",11.0266,12.4815,14.8155]
[44523,"2021-11-23",11.171200000000001,12.5938,14.980499999999999]
[44524,"2021-11-24",12.1556,13.678900000000001,16.2331]
[44525,"2021-11-25",12.6082,14.1524,16.824400000000001]
[44526,"2021-11-26",12.0001,13.464,15.9749]
[44527,"2021-11-27",12.0786,13.597099999999999,16.052800000000001]
[44528,"2021-11-28",12.0786,13.597099999999999,16.052800000000001]
[44529,"2021-11-29",12.0786,13.597099999999999,16.052800000000001]
[44530,"2021-11-30",12.6595,14.279299999999999,16.858699999999999]
[44531,"2021-12-01",12.938700000000001,14.6798,17.235399999999998]
[44532,"2021-12-02",13.3363,15.104900000000001,17.725899999999999]
[44533,"2021-12-03",13.406700000000001,15.1838,17.812000000000001]
[44534,"2021-12-04",13.680099999999999,15.454800000000001,18.135200000000001]
[44535,"2021-12-05",13.680099999999999,15.454800000000001,18.135200000000001]
[44536,"2021-12-06",13.680099999999999,15.454800000000001,18.135200000000001]
[44537,"2021-12-07",13.773999999999999,15.5503,18.222000000000001]
[44538,"2021-12-08",13.666700000000001,15.4101,18.0992]
[44539,"2021-12-09",13.6241,15.375400000000001,18.001000000000001]
[44540,"2021-12-10",13.7432,15.557700000000001,18.108699999999999]
[44541,"2021-12-11",13.8346,15.609400000000001,18.238700000000001]
[44542,"2021-12-12",13.8346,15.609400000000001,18.238700000000001]
[44543,"2021-12-13",13.8346,15.609400000000001,18.238700000000001]
[44544,"2021-12-14",14.246499999999999,16.066299999999998,18.830300000000001]
[44545,"2021-12-15",14.1745,16.009599999999999,18.712199999999999]
[44546,"2021-12-16",14.635,16.494,19.374700000000001]
[44547,"2021-12-17",15.2118,17.195699999999999,20.164400000000001]
[44548,"2021-12-18",16.335799999999999,18.5044,21.704599999999999]
[44549,"2021-12-19",16.335799999999999,18.5044,21.704599999999999]
[44550,"2021-12-20",16.335799999999999,18.5044,21.704599999999999]
[44551,"2021-12-21",17.473099999999999,19.678799999999999,23.0334]
[44552,"2021-12-22",13.022600000000001,14.702400000000001,17.208400000000001]
[44553,"2021-12-23",12.4535,14.048299999999999,16.516200000000001]
[44554,"2021-12-24",11.450799999999999,12.968299999999999,15.3095]
[44555,"2021-12-25",11.7278,13.2926,15.698499999999999]
[44556,"2021-12-26",11.7278,13.2926,15.698499999999999]
[44557,"2021-12-27",11.7278,13.2926,15.698499999999999]
[44558,"2021-12-28",11.39,12.8903,15.241199999999999]
[44559,"2021-12-29",11.8302,13.4,15.8766]
[44560,"2021-12-30",12.2219,13.8011,16.38]
[44561,"2021-12-31",12.977499999999999,14.6823,17.452999999999999]